BEGIN:VCALENDAR
VERSION:2.0
PRODID:-//jEvents 2.0 for Joomla//EN
CALSCALE:GREGORIAN
METHOD:PUBLISH
BEGIN:VTIMEZONE
TZID:America/Chicago
BEGIN:STANDARD
DTSTART:20170228T110000
RDATE:20170312T030000
TZOFFSETFROM:-0500
TZOFFSETTO:-0600
TZNAME:America/Chicago CST
END:STANDARD
BEGIN:STANDARD
DTSTART:20171105T010000
RDATE:20180311T030000
TZOFFSETFROM:-0500
TZOFFSETTO:-0600
TZNAME:America/Chicago CST
END:STANDARD
BEGIN:STANDARD
DTSTART:20181104T010000
RDATE:20190310T030000
TZOFFSETFROM:-0500
TZOFFSETTO:-0600
TZNAME:America/Chicago CST
END:STANDARD
BEGIN:STANDARD
DTSTART:20191103T010000
RDATE:20200308T030000
TZOFFSETFROM:-0500
TZOFFSETTO:-0600
TZNAME:America/Chicago CST
END:STANDARD
BEGIN:STANDARD
DTSTART:20201101T010000
RDATE:20210314T030000
TZOFFSETFROM:-0500
TZOFFSETTO:-0600
TZNAME:America/Chicago CST
END:STANDARD
BEGIN:DAYLIGHT
DTSTART:20170312T030000
RDATE:20171105T010000
TZOFFSETFROM:-0600
TZOFFSETTO:-0500
TZNAME:America/Chicago CDT
END:DAYLIGHT
BEGIN:DAYLIGHT
DTSTART:20180311T030000
RDATE:20181104T010000
TZOFFSETFROM:-0600
TZOFFSETTO:-0500
TZNAME:America/Chicago CDT
END:DAYLIGHT
BEGIN:DAYLIGHT
DTSTART:20190310T030000
RDATE:20191103T010000
TZOFFSETFROM:-0600
TZOFFSETTO:-0500
TZNAME:America/Chicago CDT
END:DAYLIGHT
BEGIN:DAYLIGHT
DTSTART:20200308T030000
RDATE:20201101T010000
TZOFFSETFROM:-0600
TZOFFSETTO:-0500
TZNAME:America/Chicago CDT
END:DAYLIGHT
END:VTIMEZONE
BEGIN:VEVENT
UID:9539c8fa7b0de16e11d944ff560fe46a
CATEGORIES:Meetings
CREATED:20150504T094001
SUMMARY:Tree Board
LOCATION:Courtroom\, City Hall
DESCRIPTION:
CONTACT:Hume Bryant, Co-Chairman: This email address is being protected from spambots. You need JavaScript enabled to view it.
				document.getElementById('cloakc857c9a7353e25525f4b6d7da7a5a1b7').innerHTML = '';
				var prefix = '&#109;a' + 'i&#108;' + '&#116;o';
				var path = 'hr' + 'ef' + '=';
				var addyc857c9a7353e25525f4b6d7da7a5a1b7 = 'bry&#97;h1207' + '&#64;';
				addyc857c9a7353e25525f4b6d7da7a5a1b7 = addyc857c9a7353e25525f4b6d7da7a5a1b7 + 'y&#97;h&#111;&#111;' + '&#46;' + 'c&#111;m';
				var addy_textc857c9a7353e25525f4b6d7da7a5a1b7 = 'bry&#97;h1207' + '&#64;' + 'y&#97;h&#111;&#111;' + '&#46;' + 'c&#111;m';document.getElementById('cloakc857c9a7353e25525f4b6d7da7a5a1b7').innerHTML += '<a ' + path + '\'' + prefix + ':' + addyc857c9a7353e25525f4b6d7da7a5a1b7 + '\'>'+addy_textc857c9a7353e25525f4b6d7da7a5a1b7+'';
		. Cowan Hunter, Co-Chairman: This email address is being protected from spambots. You need JavaScript enabled to view it.
				document.getElementById('cloak5f0260ece9a179b3ba41bcc454418182').innerHTML = '';
				var prefix = '&#109;a' + 'i&#108;' + '&#116;o';
				var path = 'hr' + 'ef' + '=';
				var addy5f0260ece9a179b3ba41bcc454418182 = 'r&#97;ng&#101;r1275' + '&#64;';
				addy5f0260ece9a179b3ba41bcc454418182 = addy5f0260ece9a179b3ba41bcc454418182 + 'h&#111;tm&#97;&#105;l' + '&#46;' + 'c&#111;m';
				var addy_text5f0260ece9a179b3ba41bcc454418182 = 'r&#97;ng&#101;r1275' + '&#64;' + 'h&#111;tm&#97;&#105;l' + '&#46;' + 'c&#111;m';document.getElementById('cloak5f0260ece9a179b3ba41bcc454418182').innerHTML += '<a ' + path + '\'' + prefix + ':' + addy5f0260ece9a179b3ba41bcc454418182 + '\'>'+addy_text5f0260ece9a179b3ba41bcc454418182+'';
		
X-EXTRAINFO:Current agenda: http://www.oxfordms.net/tree-board-agenda (http://www.oxfor
 dms.net/tree-board-agenda)
DTSTAMP:20260420T103552
DTSTART;TZID=America/Chicago:20180301T110000
SEQUENCE:0
TRANSP:OPAQUE
END:VEVENT
END:VCALENDAR