BEGIN:VCALENDAR
VERSION:2.0
PRODID:-//jEvents 2.0 for Joomla//EN
CALSCALE:GREGORIAN
METHOD:PUBLISH
BEGIN:VTIMEZONE
TZID:America/Chicago
BEGIN:STANDARD
DTSTART:20160301T110000
RDATE:20160313T030000
TZOFFSETFROM:-0500
TZOFFSETTO:-0600
TZNAME:America/Chicago CST
END:STANDARD
BEGIN:STANDARD
DTSTART:20161106T010000
RDATE:20170312T030000
TZOFFSETFROM:-0500
TZOFFSETTO:-0600
TZNAME:America/Chicago CST
END:STANDARD
BEGIN:STANDARD
DTSTART:20171105T010000
RDATE:20180311T030000
TZOFFSETFROM:-0500
TZOFFSETTO:-0600
TZNAME:America/Chicago CST
END:STANDARD
BEGIN:STANDARD
DTSTART:20181104T010000
RDATE:20190310T030000
TZOFFSETFROM:-0500
TZOFFSETTO:-0600
TZNAME:America/Chicago CST
END:STANDARD
BEGIN:STANDARD
DTSTART:20191103T010000
RDATE:20200308T030000
TZOFFSETFROM:-0500
TZOFFSETTO:-0600
TZNAME:America/Chicago CST
END:STANDARD
BEGIN:STANDARD
DTSTART:20201101T010000
RDATE:20210314T030000
TZOFFSETFROM:-0500
TZOFFSETTO:-0600
TZNAME:America/Chicago CST
END:STANDARD
BEGIN:DAYLIGHT
DTSTART:20160313T030000
RDATE:20161106T010000
TZOFFSETFROM:-0600
TZOFFSETTO:-0500
TZNAME:America/Chicago CDT
END:DAYLIGHT
BEGIN:DAYLIGHT
DTSTART:20170312T030000
RDATE:20171105T010000
TZOFFSETFROM:-0600
TZOFFSETTO:-0500
TZNAME:America/Chicago CDT
END:DAYLIGHT
BEGIN:DAYLIGHT
DTSTART:20180311T030000
RDATE:20181104T010000
TZOFFSETFROM:-0600
TZOFFSETTO:-0500
TZNAME:America/Chicago CDT
END:DAYLIGHT
BEGIN:DAYLIGHT
DTSTART:20190310T030000
RDATE:20191103T010000
TZOFFSETFROM:-0600
TZOFFSETTO:-0500
TZNAME:America/Chicago CDT
END:DAYLIGHT
BEGIN:DAYLIGHT
DTSTART:20200308T030000
RDATE:20201101T010000
TZOFFSETFROM:-0600
TZOFFSETTO:-0500
TZNAME:America/Chicago CDT
END:DAYLIGHT
END:VTIMEZONE
BEGIN:VEVENT
UID:9539c8fa7b0de16e11d944ff560fe46a
CATEGORIES:Meetings
CREATED:20150504T094001
SUMMARY:Tree Board
LOCATION:Courtroom\, City Hall
DESCRIPTION:
CONTACT:Hume Bryant, Co-Chairman: This email address is being protected from spambots. You need JavaScript enabled to view it.
				document.getElementById('cloak17880c85ac372ccbd36cb4a7e2d887ca').innerHTML = '';
				var prefix = '&#109;a' + 'i&#108;' + '&#116;o';
				var path = 'hr' + 'ef' + '=';
				var addy17880c85ac372ccbd36cb4a7e2d887ca = 'bry&#97;h1207' + '&#64;';
				addy17880c85ac372ccbd36cb4a7e2d887ca = addy17880c85ac372ccbd36cb4a7e2d887ca + 'y&#97;h&#111;&#111;' + '&#46;' + 'c&#111;m';
				var addy_text17880c85ac372ccbd36cb4a7e2d887ca = 'bry&#97;h1207' + '&#64;' + 'y&#97;h&#111;&#111;' + '&#46;' + 'c&#111;m';document.getElementById('cloak17880c85ac372ccbd36cb4a7e2d887ca').innerHTML += '<a ' + path + '\'' + prefix + ':' + addy17880c85ac372ccbd36cb4a7e2d887ca + '\'>'+addy_text17880c85ac372ccbd36cb4a7e2d887ca+'';
		. Cowan Hunter, Co-Chairman: This email address is being protected from spambots. You need JavaScript enabled to view it.
				document.getElementById('cloak570325a457f4f89f34c6953d2731a922').innerHTML = '';
				var prefix = '&#109;a' + 'i&#108;' + '&#116;o';
				var path = 'hr' + 'ef' + '=';
				var addy570325a457f4f89f34c6953d2731a922 = 'r&#97;ng&#101;r1275' + '&#64;';
				addy570325a457f4f89f34c6953d2731a922 = addy570325a457f4f89f34c6953d2731a922 + 'h&#111;tm&#97;&#105;l' + '&#46;' + 'c&#111;m';
				var addy_text570325a457f4f89f34c6953d2731a922 = 'r&#97;ng&#101;r1275' + '&#64;' + 'h&#111;tm&#97;&#105;l' + '&#46;' + 'c&#111;m';document.getElementById('cloak570325a457f4f89f34c6953d2731a922').innerHTML += '<a ' + path + '\'' + prefix + ':' + addy570325a457f4f89f34c6953d2731a922 + '\'>'+addy_text570325a457f4f89f34c6953d2731a922+'';
		
X-EXTRAINFO:Current agenda: http://www.oxfordms.net/tree-board-agenda (http://www.oxfor
 dms.net/tree-board-agenda)
DTSTAMP:20260419T121720
DTSTART;TZID=America/Chicago:20170302T110000
SEQUENCE:0
TRANSP:OPAQUE
END:VEVENT
END:VCALENDAR