BEGIN:VCALENDAR
VERSION:2.0
PRODID:-//jEvents 2.0 for Joomla//EN
CALSCALE:GREGORIAN
METHOD:PUBLISH
BEGIN:VTIMEZONE
TZID:America/Chicago
BEGIN:STANDARD
DTSTART:20151101T010000
RDATE:20160313T030000
TZOFFSETFROM:-0500
TZOFFSETTO:-0600
TZNAME:America/Chicago CST
END:STANDARD
BEGIN:STANDARD
DTSTART:20161106T010000
RDATE:20170312T030000
TZOFFSETFROM:-0500
TZOFFSETTO:-0600
TZNAME:America/Chicago CST
END:STANDARD
BEGIN:STANDARD
DTSTART:20171105T010000
RDATE:20180311T030000
TZOFFSETFROM:-0500
TZOFFSETTO:-0600
TZNAME:America/Chicago CST
END:STANDARD
BEGIN:STANDARD
DTSTART:20181104T010000
RDATE:20190310T030000
TZOFFSETFROM:-0500
TZOFFSETTO:-0600
TZNAME:America/Chicago CST
END:STANDARD
BEGIN:STANDARD
DTSTART:20191103T010000
RDATE:20200308T030000
TZOFFSETFROM:-0500
TZOFFSETTO:-0600
TZNAME:America/Chicago CST
END:STANDARD
BEGIN:STANDARD
DTSTART:20201101T010000
RDATE:20210314T030000
TZOFFSETFROM:-0500
TZOFFSETTO:-0600
TZNAME:America/Chicago CST
END:STANDARD
BEGIN:DAYLIGHT
DTSTART:20150901T110000
RDATE:20151101T010000
TZOFFSETFROM:-0600
TZOFFSETTO:-0500
TZNAME:America/Chicago CDT
END:DAYLIGHT
BEGIN:DAYLIGHT
DTSTART:20160313T030000
RDATE:20161106T010000
TZOFFSETFROM:-0600
TZOFFSETTO:-0500
TZNAME:America/Chicago CDT
END:DAYLIGHT
BEGIN:DAYLIGHT
DTSTART:20170312T030000
RDATE:20171105T010000
TZOFFSETFROM:-0600
TZOFFSETTO:-0500
TZNAME:America/Chicago CDT
END:DAYLIGHT
BEGIN:DAYLIGHT
DTSTART:20180311T030000
RDATE:20181104T010000
TZOFFSETFROM:-0600
TZOFFSETTO:-0500
TZNAME:America/Chicago CDT
END:DAYLIGHT
BEGIN:DAYLIGHT
DTSTART:20190310T030000
RDATE:20191103T010000
TZOFFSETFROM:-0600
TZOFFSETTO:-0500
TZNAME:America/Chicago CDT
END:DAYLIGHT
BEGIN:DAYLIGHT
DTSTART:20200308T030000
RDATE:20201101T010000
TZOFFSETFROM:-0600
TZOFFSETTO:-0500
TZNAME:America/Chicago CDT
END:DAYLIGHT
END:VTIMEZONE
BEGIN:VEVENT
UID:9539c8fa7b0de16e11d944ff560fe46a
CATEGORIES:Meetings
CREATED:20150504T094001
SUMMARY:Tree Board
LOCATION:Courtroom\, City Hall
DESCRIPTION:
CONTACT:Hume Bryant, Co-Chairman: This email address is being protected from spambots. You need JavaScript enabled to view it.
				document.getElementById('cloak9e1854a44f82ee28c0119dcb20548b7e').innerHTML = '';
				var prefix = '&#109;a' + 'i&#108;' + '&#116;o';
				var path = 'hr' + 'ef' + '=';
				var addy9e1854a44f82ee28c0119dcb20548b7e = 'bry&#97;h1207' + '&#64;';
				addy9e1854a44f82ee28c0119dcb20548b7e = addy9e1854a44f82ee28c0119dcb20548b7e + 'y&#97;h&#111;&#111;' + '&#46;' + 'c&#111;m';
				var addy_text9e1854a44f82ee28c0119dcb20548b7e = 'bry&#97;h1207' + '&#64;' + 'y&#97;h&#111;&#111;' + '&#46;' + 'c&#111;m';document.getElementById('cloak9e1854a44f82ee28c0119dcb20548b7e').innerHTML += '<a ' + path + '\'' + prefix + ':' + addy9e1854a44f82ee28c0119dcb20548b7e + '\'>'+addy_text9e1854a44f82ee28c0119dcb20548b7e+'';
		. Cowan Hunter, Co-Chairman: This email address is being protected from spambots. You need JavaScript enabled to view it.
				document.getElementById('cloak598edb7e98db591e7574640eb474660b').innerHTML = '';
				var prefix = '&#109;a' + 'i&#108;' + '&#116;o';
				var path = 'hr' + 'ef' + '=';
				var addy598edb7e98db591e7574640eb474660b = 'r&#97;ng&#101;r1275' + '&#64;';
				addy598edb7e98db591e7574640eb474660b = addy598edb7e98db591e7574640eb474660b + 'h&#111;tm&#97;&#105;l' + '&#46;' + 'c&#111;m';
				var addy_text598edb7e98db591e7574640eb474660b = 'r&#97;ng&#101;r1275' + '&#64;' + 'h&#111;tm&#97;&#105;l' + '&#46;' + 'c&#111;m';document.getElementById('cloak598edb7e98db591e7574640eb474660b').innerHTML += '<a ' + path + '\'' + prefix + ':' + addy598edb7e98db591e7574640eb474660b + '\'>'+addy_text598edb7e98db591e7574640eb474660b+'';
		
X-EXTRAINFO:Current agenda: http://www.oxfordms.net/tree-board-agenda (http://www.oxfor
 dms.net/tree-board-agenda)
DTSTAMP:20260419T215646
DTSTART;TZID=America/Chicago:20160901T110000
SEQUENCE:0
TRANSP:OPAQUE
END:VEVENT
END:VCALENDAR