BEGIN:VCALENDAR
VERSION:2.0
PRODID:-//jEvents 2.0 for Joomla//EN
CALSCALE:GREGORIAN
METHOD:PUBLISH
BEGIN:VTIMEZONE
TZID:America/Chicago
BEGIN:STANDARD
DTSTART:20141102T010000
RDATE:20150308T030000
TZOFFSETFROM:-0500
TZOFFSETTO:-0600
TZNAME:America/Chicago CST
END:STANDARD
BEGIN:STANDARD
DTSTART:20151101T010000
RDATE:20160313T030000
TZOFFSETFROM:-0500
TZOFFSETTO:-0600
TZNAME:America/Chicago CST
END:STANDARD
BEGIN:STANDARD
DTSTART:20161106T010000
RDATE:20170312T030000
TZOFFSETFROM:-0500
TZOFFSETTO:-0600
TZNAME:America/Chicago CST
END:STANDARD
BEGIN:STANDARD
DTSTART:20171105T010000
RDATE:20180311T030000
TZOFFSETFROM:-0500
TZOFFSETTO:-0600
TZNAME:America/Chicago CST
END:STANDARD
BEGIN:STANDARD
DTSTART:20181104T010000
RDATE:20190310T030000
TZOFFSETFROM:-0500
TZOFFSETTO:-0600
TZNAME:America/Chicago CST
END:STANDARD
BEGIN:STANDARD
DTSTART:20191103T010000
RDATE:20200308T030000
TZOFFSETFROM:-0500
TZOFFSETTO:-0600
TZNAME:America/Chicago CST
END:STANDARD
BEGIN:STANDARD
DTSTART:20201101T010000
RDATE:20210314T030000
TZOFFSETFROM:-0500
TZOFFSETTO:-0600
TZNAME:America/Chicago CST
END:STANDARD
BEGIN:DAYLIGHT
DTSTART:20140930T110000
RDATE:20141102T010000
TZOFFSETFROM:-0600
TZOFFSETTO:-0500
TZNAME:America/Chicago CDT
END:DAYLIGHT
BEGIN:DAYLIGHT
DTSTART:20150308T030000
RDATE:20151101T010000
TZOFFSETFROM:-0600
TZOFFSETTO:-0500
TZNAME:America/Chicago CDT
END:DAYLIGHT
BEGIN:DAYLIGHT
DTSTART:20160313T030000
RDATE:20161106T010000
TZOFFSETFROM:-0600
TZOFFSETTO:-0500
TZNAME:America/Chicago CDT
END:DAYLIGHT
BEGIN:DAYLIGHT
DTSTART:20170312T030000
RDATE:20171105T010000
TZOFFSETFROM:-0600
TZOFFSETTO:-0500
TZNAME:America/Chicago CDT
END:DAYLIGHT
BEGIN:DAYLIGHT
DTSTART:20180311T030000
RDATE:20181104T010000
TZOFFSETFROM:-0600
TZOFFSETTO:-0500
TZNAME:America/Chicago CDT
END:DAYLIGHT
BEGIN:DAYLIGHT
DTSTART:20190310T030000
RDATE:20191103T010000
TZOFFSETFROM:-0600
TZOFFSETTO:-0500
TZNAME:America/Chicago CDT
END:DAYLIGHT
BEGIN:DAYLIGHT
DTSTART:20200308T030000
RDATE:20201101T010000
TZOFFSETFROM:-0600
TZOFFSETTO:-0500
TZNAME:America/Chicago CDT
END:DAYLIGHT
END:VTIMEZONE
BEGIN:VEVENT
UID:9539c8fa7b0de16e11d944ff560fe46a
CATEGORIES:Meetings
CREATED:20150504T094001
SUMMARY:Tree Board
LOCATION:Courtroom\, City Hall
DESCRIPTION:
CONTACT:Hume Bryant, Co-Chairman: This email address is being protected from spambots. You need JavaScript enabled to view it.
				document.getElementById('cloakf47e99da8a44dce1e051341ea7dd4941').innerHTML = '';
				var prefix = '&#109;a' + 'i&#108;' + '&#116;o';
				var path = 'hr' + 'ef' + '=';
				var addyf47e99da8a44dce1e051341ea7dd4941 = 'bry&#97;h1207' + '&#64;';
				addyf47e99da8a44dce1e051341ea7dd4941 = addyf47e99da8a44dce1e051341ea7dd4941 + 'y&#97;h&#111;&#111;' + '&#46;' + 'c&#111;m';
				var addy_textf47e99da8a44dce1e051341ea7dd4941 = 'bry&#97;h1207' + '&#64;' + 'y&#97;h&#111;&#111;' + '&#46;' + 'c&#111;m';document.getElementById('cloakf47e99da8a44dce1e051341ea7dd4941').innerHTML += '<a ' + path + '\'' + prefix + ':' + addyf47e99da8a44dce1e051341ea7dd4941 + '\'>'+addy_textf47e99da8a44dce1e051341ea7dd4941+'';
		. Cowan Hunter, Co-Chairman: This email address is being protected from spambots. You need JavaScript enabled to view it.
				document.getElementById('cloakd97bce8294c93e5beef30373a738b3bd').innerHTML = '';
				var prefix = '&#109;a' + 'i&#108;' + '&#116;o';
				var path = 'hr' + 'ef' + '=';
				var addyd97bce8294c93e5beef30373a738b3bd = 'r&#97;ng&#101;r1275' + '&#64;';
				addyd97bce8294c93e5beef30373a738b3bd = addyd97bce8294c93e5beef30373a738b3bd + 'h&#111;tm&#97;&#105;l' + '&#46;' + 'c&#111;m';
				var addy_textd97bce8294c93e5beef30373a738b3bd = 'r&#97;ng&#101;r1275' + '&#64;' + 'h&#111;tm&#97;&#105;l' + '&#46;' + 'c&#111;m';document.getElementById('cloakd97bce8294c93e5beef30373a738b3bd').innerHTML += '<a ' + path + '\'' + prefix + ':' + addyd97bce8294c93e5beef30373a738b3bd + '\'>'+addy_textd97bce8294c93e5beef30373a738b3bd+'';
		
X-EXTRAINFO:Current agenda: http://www.oxfordms.net/tree-board-agenda (http://www.oxfor
 dms.net/tree-board-agenda)
DTSTAMP:20260419T234944
DTSTART;TZID=America/Chicago:20151001T110000
SEQUENCE:0
TRANSP:OPAQUE
END:VEVENT
END:VCALENDAR