BEGIN:VCALENDAR
VERSION:2.0
PRODID:-//jEvents 2.0 for Joomla//EN
CALSCALE:GREGORIAN
METHOD:PUBLISH
BEGIN:VTIMEZONE
TZID:America/Chicago
END:VTIMEZONE
BEGIN:VEVENT
UID:9539c8fa7b0de16e11d944ff560fe46a
CATEGORIES:Meetings
CREATED:20150504T094001
SUMMARY:Tree Board
LOCATION:Courtroom\, City Hall
DESCRIPTION:
CONTACT:Hume Bryant, Co-Chairman: This email address is being protected from spambots. You need JavaScript enabled to view it.
				document.getElementById('cloak20a7ace9a7c9458096ee4bdb996ed3ef').innerHTML = '';
				var prefix = '&#109;a' + 'i&#108;' + '&#116;o';
				var path = 'hr' + 'ef' + '=';
				var addy20a7ace9a7c9458096ee4bdb996ed3ef = 'bry&#97;h1207' + '&#64;';
				addy20a7ace9a7c9458096ee4bdb996ed3ef = addy20a7ace9a7c9458096ee4bdb996ed3ef + 'y&#97;h&#111;&#111;' + '&#46;' + 'c&#111;m';
				var addy_text20a7ace9a7c9458096ee4bdb996ed3ef = 'bry&#97;h1207' + '&#64;' + 'y&#97;h&#111;&#111;' + '&#46;' + 'c&#111;m';document.getElementById('cloak20a7ace9a7c9458096ee4bdb996ed3ef').innerHTML += '<a ' + path + '\'' + prefix + ':' + addy20a7ace9a7c9458096ee4bdb996ed3ef + '\'>'+addy_text20a7ace9a7c9458096ee4bdb996ed3ef+'';
		. Cowan Hunter, Co-Chairman: This email address is being protected from spambots. You need JavaScript enabled to view it.
				document.getElementById('cloak4dcb78c4af9746ed04f16661acd50331').innerHTML = '';
				var prefix = '&#109;a' + 'i&#108;' + '&#116;o';
				var path = 'hr' + 'ef' + '=';
				var addy4dcb78c4af9746ed04f16661acd50331 = 'r&#97;ng&#101;r1275' + '&#64;';
				addy4dcb78c4af9746ed04f16661acd50331 = addy4dcb78c4af9746ed04f16661acd50331 + 'h&#111;tm&#97;&#105;l' + '&#46;' + 'c&#111;m';
				var addy_text4dcb78c4af9746ed04f16661acd50331 = 'r&#97;ng&#101;r1275' + '&#64;' + 'h&#111;tm&#97;&#105;l' + '&#46;' + 'c&#111;m';document.getElementById('cloak4dcb78c4af9746ed04f16661acd50331').innerHTML += '<a ' + path + '\'' + prefix + ':' + addy4dcb78c4af9746ed04f16661acd50331 + '\'>'+addy_text4dcb78c4af9746ed04f16661acd50331+'';
		
X-EXTRAINFO:Current agenda: http://www.oxfordms.net/tree-board-agenda (http://www.oxfor
 dms.net/tree-board-agenda)
DTSTAMP:20260422T105121
DTSTART;TZID=America/Chicago:20230105T110000
SEQUENCE:0
TRANSP:OPAQUE
END:VEVENT
END:VCALENDAR