BEGIN:VCALENDAR
VERSION:2.0
PRODID:-//jEvents 2.0 for Joomla//EN
CALSCALE:GREGORIAN
METHOD:PUBLISH
BEGIN:VTIMEZONE
TZID:America/Chicago
END:VTIMEZONE
BEGIN:VEVENT
UID:9539c8fa7b0de16e11d944ff560fe46a
CATEGORIES:Meetings
CREATED:20150504T094001
SUMMARY:Tree Board
LOCATION:Courtroom\, City Hall
DESCRIPTION:
CONTACT:Hume Bryant, Co-Chairman: This email address is being protected from spambots. You need JavaScript enabled to view it.
				document.getElementById('cloak1af41f1b4e3ad512d24404c1303ee20e').innerHTML = '';
				var prefix = '&#109;a' + 'i&#108;' + '&#116;o';
				var path = 'hr' + 'ef' + '=';
				var addy1af41f1b4e3ad512d24404c1303ee20e = 'bry&#97;h1207' + '&#64;';
				addy1af41f1b4e3ad512d24404c1303ee20e = addy1af41f1b4e3ad512d24404c1303ee20e + 'y&#97;h&#111;&#111;' + '&#46;' + 'c&#111;m';
				var addy_text1af41f1b4e3ad512d24404c1303ee20e = 'bry&#97;h1207' + '&#64;' + 'y&#97;h&#111;&#111;' + '&#46;' + 'c&#111;m';document.getElementById('cloak1af41f1b4e3ad512d24404c1303ee20e').innerHTML += '<a ' + path + '\'' + prefix + ':' + addy1af41f1b4e3ad512d24404c1303ee20e + '\'>'+addy_text1af41f1b4e3ad512d24404c1303ee20e+'';
		. Cowan Hunter, Co-Chairman: This email address is being protected from spambots. You need JavaScript enabled to view it.
				document.getElementById('cloakc55b1209bbb5eeaa0a36b5831bf79d12').innerHTML = '';
				var prefix = '&#109;a' + 'i&#108;' + '&#116;o';
				var path = 'hr' + 'ef' + '=';
				var addyc55b1209bbb5eeaa0a36b5831bf79d12 = 'r&#97;ng&#101;r1275' + '&#64;';
				addyc55b1209bbb5eeaa0a36b5831bf79d12 = addyc55b1209bbb5eeaa0a36b5831bf79d12 + 'h&#111;tm&#97;&#105;l' + '&#46;' + 'c&#111;m';
				var addy_textc55b1209bbb5eeaa0a36b5831bf79d12 = 'r&#97;ng&#101;r1275' + '&#64;' + 'h&#111;tm&#97;&#105;l' + '&#46;' + 'c&#111;m';document.getElementById('cloakc55b1209bbb5eeaa0a36b5831bf79d12').innerHTML += '<a ' + path + '\'' + prefix + ':' + addyc55b1209bbb5eeaa0a36b5831bf79d12 + '\'>'+addy_textc55b1209bbb5eeaa0a36b5831bf79d12+'';
		
X-EXTRAINFO:Current agenda: http://www.oxfordms.net/tree-board-agenda (http://www.oxfor
 dms.net/tree-board-agenda)
DTSTAMP:20260422T025244
DTSTART;TZID=America/Chicago:20220804T110000
SEQUENCE:0
TRANSP:OPAQUE
END:VEVENT
END:VCALENDAR