BEGIN:VCALENDAR
VERSION:2.0
PRODID:-//jEvents 2.0 for Joomla//EN
CALSCALE:GREGORIAN
METHOD:PUBLISH
BEGIN:VTIMEZONE
TZID:America/Chicago
END:VTIMEZONE
BEGIN:VEVENT
UID:9539c8fa7b0de16e11d944ff560fe46a
CATEGORIES:Meetings
CREATED:20150504T094001
SUMMARY:Tree Board
LOCATION:Courtroom\, City Hall
DESCRIPTION:
CONTACT:Hume Bryant, Co-Chairman: This email address is being protected from spambots. You need JavaScript enabled to view it.
				document.getElementById('cloakef6747caed3596521380be15671501db').innerHTML = '';
				var prefix = '&#109;a' + 'i&#108;' + '&#116;o';
				var path = 'hr' + 'ef' + '=';
				var addyef6747caed3596521380be15671501db = 'bry&#97;h1207' + '&#64;';
				addyef6747caed3596521380be15671501db = addyef6747caed3596521380be15671501db + 'y&#97;h&#111;&#111;' + '&#46;' + 'c&#111;m';
				var addy_textef6747caed3596521380be15671501db = 'bry&#97;h1207' + '&#64;' + 'y&#97;h&#111;&#111;' + '&#46;' + 'c&#111;m';document.getElementById('cloakef6747caed3596521380be15671501db').innerHTML += '<a ' + path + '\'' + prefix + ':' + addyef6747caed3596521380be15671501db + '\'>'+addy_textef6747caed3596521380be15671501db+'';
		. Cowan Hunter, Co-Chairman: This email address is being protected from spambots. You need JavaScript enabled to view it.
				document.getElementById('cloakdedc5ded8487c392d4cafd7eb79d4f7e').innerHTML = '';
				var prefix = '&#109;a' + 'i&#108;' + '&#116;o';
				var path = 'hr' + 'ef' + '=';
				var addydedc5ded8487c392d4cafd7eb79d4f7e = 'r&#97;ng&#101;r1275' + '&#64;';
				addydedc5ded8487c392d4cafd7eb79d4f7e = addydedc5ded8487c392d4cafd7eb79d4f7e + 'h&#111;tm&#97;&#105;l' + '&#46;' + 'c&#111;m';
				var addy_textdedc5ded8487c392d4cafd7eb79d4f7e = 'r&#97;ng&#101;r1275' + '&#64;' + 'h&#111;tm&#97;&#105;l' + '&#46;' + 'c&#111;m';document.getElementById('cloakdedc5ded8487c392d4cafd7eb79d4f7e').innerHTML += '<a ' + path + '\'' + prefix + ':' + addydedc5ded8487c392d4cafd7eb79d4f7e + '\'>'+addy_textdedc5ded8487c392d4cafd7eb79d4f7e+'';
		
X-EXTRAINFO:Current agenda: http://www.oxfordms.net/tree-board-agenda (http://www.oxfor
 dms.net/tree-board-agenda)
DTSTAMP:20260422T060321
DTSTART;TZID=America/Chicago:20220707T110000
SEQUENCE:0
TRANSP:OPAQUE
END:VEVENT
END:VCALENDAR