BEGIN:VCALENDAR
VERSION:2.0
PRODID:-//jEvents 2.0 for Joomla//EN
CALSCALE:GREGORIAN
METHOD:PUBLISH
BEGIN:VTIMEZONE
TZID:America/Chicago
END:VTIMEZONE
BEGIN:VEVENT
UID:9539c8fa7b0de16e11d944ff560fe46a
CATEGORIES:Meetings
CREATED:20150504T094001
SUMMARY:Tree Board
LOCATION:RSVP Conference Room
DESCRIPTION:
CONTACT:Hume Bryant, Co-Chairman: This email address is being protected from spambots. You need JavaScript enabled to view it.
				document.getElementById('cloakd37fde7fbdbb24262dfe51bdd6045067').innerHTML = '';
				var prefix = '&#109;a' + 'i&#108;' + '&#116;o';
				var path = 'hr' + 'ef' + '=';
				var addyd37fde7fbdbb24262dfe51bdd6045067 = 'bry&#97;h1207' + '&#64;';
				addyd37fde7fbdbb24262dfe51bdd6045067 = addyd37fde7fbdbb24262dfe51bdd6045067 + 'y&#97;h&#111;&#111;' + '&#46;' + 'c&#111;m';
				var addy_textd37fde7fbdbb24262dfe51bdd6045067 = 'bry&#97;h1207' + '&#64;' + 'y&#97;h&#111;&#111;' + '&#46;' + 'c&#111;m';document.getElementById('cloakd37fde7fbdbb24262dfe51bdd6045067').innerHTML += '<a ' + path + '\'' + prefix + ':' + addyd37fde7fbdbb24262dfe51bdd6045067 + '\'>'+addy_textd37fde7fbdbb24262dfe51bdd6045067+'';
		. Cowan Hunter, Co-Chairman: This email address is being protected from spambots. You need JavaScript enabled to view it.
				document.getElementById('cloakb63d7cf9d394d170587f2372dc5dc813').innerHTML = '';
				var prefix = '&#109;a' + 'i&#108;' + '&#116;o';
				var path = 'hr' + 'ef' + '=';
				var addyb63d7cf9d394d170587f2372dc5dc813 = 'r&#97;ng&#101;r1275' + '&#64;';
				addyb63d7cf9d394d170587f2372dc5dc813 = addyb63d7cf9d394d170587f2372dc5dc813 + 'h&#111;tm&#97;&#105;l' + '&#46;' + 'c&#111;m';
				var addy_textb63d7cf9d394d170587f2372dc5dc813 = 'r&#97;ng&#101;r1275' + '&#64;' + 'h&#111;tm&#97;&#105;l' + '&#46;' + 'c&#111;m';document.getElementById('cloakb63d7cf9d394d170587f2372dc5dc813').innerHTML += '<a ' + path + '\'' + prefix + ':' + addyb63d7cf9d394d170587f2372dc5dc813 + '\'>'+addy_textb63d7cf9d394d170587f2372dc5dc813+'';
		
X-EXTRAINFO:Current agenda: http://www.oxfordms.net/tree-board-agenda (http://www.oxfor
 dms.net/tree-board-agenda)
DTSTAMP:20260419T122553
DTSTART;TZID=America/Chicago:20220602T110000
SEQUENCE:0
RRULE:FREQ=MONTHLY;UNTIL=20300508T000000Z;INTERVAL=1;BYDAY=+1TH
TRANSP:OPAQUE
END:VEVENT
BEGIN:VEVENT
UID:9539c8fa7b0de16e11d944ff560fe46a
CATEGORIES:Meetings
CREATED:20150504T094001
SUMMARY:Tree Board
LOCATION:RSVP Conference Room
DESCRIPTION:
URL;VALUE=URI:https://www.oxfordms.net/calendar/icalrepeat.detail/2022/06/09/4667/-/tree-
 board?tmpl=component
CONTACT:Hume Bryant, Co-Chairman: This email address is being protected from spambots. You need JavaScript enabled to view it.
				document.getElementById('cloak9bb59d3b67fd608386405e67f7445dae').innerHTML = '';
				var prefix = '&#109;a' + 'i&#108;' + '&#116;o';
				var path = 'hr' + 'ef' + '=';
				var addy9bb59d3b67fd608386405e67f7445dae = 'bry&#97;h1207' + '&#64;';
				addy9bb59d3b67fd608386405e67f7445dae = addy9bb59d3b67fd608386405e67f7445dae + 'y&#97;h&#111;&#111;' + '&#46;' + 'c&#111;m';
				var addy_text9bb59d3b67fd608386405e67f7445dae = 'bry&#97;h1207' + '&#64;' + 'y&#97;h&#111;&#111;' + '&#46;' + 'c&#111;m';document.getElementById('cloak9bb59d3b67fd608386405e67f7445dae').innerHTML += '<a ' + path + '\'' + prefix + ':' + addy9bb59d3b67fd608386405e67f7445dae + '\'>'+addy_text9bb59d3b67fd608386405e67f7445dae+'';
		. Cowan Hunter, Co-Chairman: This email address is being protected from spambots. You need JavaScript enabled to view it.
				document.getElementById('cloakd57c808315e568cc5703b7174c9b4839').innerHTML = '';
				var prefix = '&#109;a' + 'i&#108;' + '&#116;o';
				var path = 'hr' + 'ef' + '=';
				var addyd57c808315e568cc5703b7174c9b4839 = 'r&#97;ng&#101;r1275' + '&#64;';
				addyd57c808315e568cc5703b7174c9b4839 = addyd57c808315e568cc5703b7174c9b4839 + 'h&#111;tm&#97;&#105;l' + '&#46;' + 'c&#111;m';
				var addy_textd57c808315e568cc5703b7174c9b4839 = 'r&#97;ng&#101;r1275' + '&#64;' + 'h&#111;tm&#97;&#105;l' + '&#46;' + 'c&#111;m';document.getElementById('cloakd57c808315e568cc5703b7174c9b4839').innerHTML += '<a ' + path + '\'' + prefix + ':' + addyd57c808315e568cc5703b7174c9b4839 + '\'>'+addy_textd57c808315e568cc5703b7174c9b4839+'';
		
X-EXTRAINFO:Current agenda: http://www.oxfordms.net/tree-board-agenda (http://www.oxfor
 dms.net/tree-board-agenda)
DTSTAMP:20260419T122553
DTSTART;TZID=America/Chicago:20220609T110000
DTEND;TZID=America/Chicago:20220609T235959
RECURRENCE-ID;TZID=America/Chicago:20220602T110000
SEQUENCE:0
TRANSP:OPAQUE
END:VEVENT
BEGIN:VEVENT
UID:9539c8fa7b0de16e11d944ff560fe46a
CATEGORIES:Meetings
CREATED:20150504T094001
SUMMARY:Tree Board
LOCATION:RSVP Conference Room
DESCRIPTION:
URL;VALUE=URI:https://www.oxfordms.net/calendar/icalrepeat.detail/2021/05/13/4654/-/tree-
 board?tmpl=component
CONTACT:Hume Bryant, Co-Chairman: This email address is being protected from spambots. You need JavaScript enabled to view it.
				document.getElementById('cloakd98db77788235be62c5a404c0e21c460').innerHTML = '';
				var prefix = '&#109;a' + 'i&#108;' + '&#116;o';
				var path = 'hr' + 'ef' + '=';
				var addyd98db77788235be62c5a404c0e21c460 = 'bry&#97;h1207' + '&#64;';
				addyd98db77788235be62c5a404c0e21c460 = addyd98db77788235be62c5a404c0e21c460 + 'y&#97;h&#111;&#111;' + '&#46;' + 'c&#111;m';
				var addy_textd98db77788235be62c5a404c0e21c460 = 'bry&#97;h1207' + '&#64;' + 'y&#97;h&#111;&#111;' + '&#46;' + 'c&#111;m';document.getElementById('cloakd98db77788235be62c5a404c0e21c460').innerHTML += '<a ' + path + '\'' + prefix + ':' + addyd98db77788235be62c5a404c0e21c460 + '\'>'+addy_textd98db77788235be62c5a404c0e21c460+'';
		. Cowan Hunter, Co-Chairman: This email address is being protected from spambots. You need JavaScript enabled to view it.
				document.getElementById('cloakd3d6bbe8933d789aa79deb796e9f6137').innerHTML = '';
				var prefix = '&#109;a' + 'i&#108;' + '&#116;o';
				var path = 'hr' + 'ef' + '=';
				var addyd3d6bbe8933d789aa79deb796e9f6137 = 'r&#97;ng&#101;r1275' + '&#64;';
				addyd3d6bbe8933d789aa79deb796e9f6137 = addyd3d6bbe8933d789aa79deb796e9f6137 + 'h&#111;tm&#97;&#105;l' + '&#46;' + 'c&#111;m';
				var addy_textd3d6bbe8933d789aa79deb796e9f6137 = 'r&#97;ng&#101;r1275' + '&#64;' + 'h&#111;tm&#97;&#105;l' + '&#46;' + 'c&#111;m';document.getElementById('cloakd3d6bbe8933d789aa79deb796e9f6137').innerHTML += '<a ' + path + '\'' + prefix + ':' + addyd3d6bbe8933d789aa79deb796e9f6137 + '\'>'+addy_textd3d6bbe8933d789aa79deb796e9f6137+'';
		
X-EXTRAINFO:Current agenda: http://www.oxfordms.net/tree-board-agenda (http://www.oxfor
 dms.net/tree-board-agenda)
DTSTAMP:20260419T122553
DTSTART;TZID=America/Chicago:20210513T110000
DTEND;TZID=America/Chicago:20210513T235959
RECURRENCE-ID;TZID=America/Chicago:20210506T110000
SEQUENCE:0
TRANSP:OPAQUE
END:VEVENT
BEGIN:VEVENT
UID:9539c8fa7b0de16e11d944ff560fe46a
CATEGORIES:Meetings
CREATED:20150504T094001
SUMMARY:Tree Board
LOCATION:RSVP Conference Room
DESCRIPTION:
URL;VALUE=URI:https://www.oxfordms.net/calendar/icalrepeat.detail/2021/04/08/4653/-/tree-
 board?tmpl=component
CONTACT:Hume Bryant, Co-Chairman: This email address is being protected from spambots. You need JavaScript enabled to view it.
				document.getElementById('cloaka3a40e032d8a2bd04b663b69fab0f359').innerHTML = '';
				var prefix = '&#109;a' + 'i&#108;' + '&#116;o';
				var path = 'hr' + 'ef' + '=';
				var addya3a40e032d8a2bd04b663b69fab0f359 = 'bry&#97;h1207' + '&#64;';
				addya3a40e032d8a2bd04b663b69fab0f359 = addya3a40e032d8a2bd04b663b69fab0f359 + 'y&#97;h&#111;&#111;' + '&#46;' + 'c&#111;m';
				var addy_texta3a40e032d8a2bd04b663b69fab0f359 = 'bry&#97;h1207' + '&#64;' + 'y&#97;h&#111;&#111;' + '&#46;' + 'c&#111;m';document.getElementById('cloaka3a40e032d8a2bd04b663b69fab0f359').innerHTML += '<a ' + path + '\'' + prefix + ':' + addya3a40e032d8a2bd04b663b69fab0f359 + '\'>'+addy_texta3a40e032d8a2bd04b663b69fab0f359+'';
		. Cowan Hunter, Co-Chairman: This email address is being protected from spambots. You need JavaScript enabled to view it.
				document.getElementById('cloakf06bb0aa02863fdc8a5eb74f1be01427').innerHTML = '';
				var prefix = '&#109;a' + 'i&#108;' + '&#116;o';
				var path = 'hr' + 'ef' + '=';
				var addyf06bb0aa02863fdc8a5eb74f1be01427 = 'r&#97;ng&#101;r1275' + '&#64;';
				addyf06bb0aa02863fdc8a5eb74f1be01427 = addyf06bb0aa02863fdc8a5eb74f1be01427 + 'h&#111;tm&#97;&#105;l' + '&#46;' + 'c&#111;m';
				var addy_textf06bb0aa02863fdc8a5eb74f1be01427 = 'r&#97;ng&#101;r1275' + '&#64;' + 'h&#111;tm&#97;&#105;l' + '&#46;' + 'c&#111;m';document.getElementById('cloakf06bb0aa02863fdc8a5eb74f1be01427').innerHTML += '<a ' + path + '\'' + prefix + ':' + addyf06bb0aa02863fdc8a5eb74f1be01427 + '\'>'+addy_textf06bb0aa02863fdc8a5eb74f1be01427+'';
		
X-EXTRAINFO:Current agenda: http://www.oxfordms.net/tree-board-agenda (http://www.oxfor
 dms.net/tree-board-agenda)
DTSTAMP:20260419T122553
DTSTART;TZID=America/Chicago:20210408T110000
DTEND;TZID=America/Chicago:20210408T235959
RECURRENCE-ID;TZID=America/Chicago:20210401T110000
SEQUENCE:0
TRANSP:OPAQUE
END:VEVENT
BEGIN:VEVENT
UID:9539c8fa7b0de16e11d944ff560fe46a
CATEGORIES:Meetings
CREATED:20150504T094001
SUMMARY:Tree Board
LOCATION:RSVP Conference Room
DESCRIPTION:
URL;VALUE=URI:https://www.oxfordms.net/calendar/icalrepeat.detail/2021/07/08/4656/-/tree-
 board?tmpl=component
CONTACT:Hume Bryant, Co-Chairman: This email address is being protected from spambots. You need JavaScript enabled to view it.
				document.getElementById('cloak023c1cb69c1432bc1d06831a1e8b6443').innerHTML = '';
				var prefix = '&#109;a' + 'i&#108;' + '&#116;o';
				var path = 'hr' + 'ef' + '=';
				var addy023c1cb69c1432bc1d06831a1e8b6443 = 'bry&#97;h1207' + '&#64;';
				addy023c1cb69c1432bc1d06831a1e8b6443 = addy023c1cb69c1432bc1d06831a1e8b6443 + 'y&#97;h&#111;&#111;' + '&#46;' + 'c&#111;m';
				var addy_text023c1cb69c1432bc1d06831a1e8b6443 = 'bry&#97;h1207' + '&#64;' + 'y&#97;h&#111;&#111;' + '&#46;' + 'c&#111;m';document.getElementById('cloak023c1cb69c1432bc1d06831a1e8b6443').innerHTML += '<a ' + path + '\'' + prefix + ':' + addy023c1cb69c1432bc1d06831a1e8b6443 + '\'>'+addy_text023c1cb69c1432bc1d06831a1e8b6443+'';
		. Cowan Hunter, Co-Chairman: This email address is being protected from spambots. You need JavaScript enabled to view it.
				document.getElementById('cloake002922d15b0b6a2df043f8446e49c9e').innerHTML = '';
				var prefix = '&#109;a' + 'i&#108;' + '&#116;o';
				var path = 'hr' + 'ef' + '=';
				var addye002922d15b0b6a2df043f8446e49c9e = 'r&#97;ng&#101;r1275' + '&#64;';
				addye002922d15b0b6a2df043f8446e49c9e = addye002922d15b0b6a2df043f8446e49c9e + 'h&#111;tm&#97;&#105;l' + '&#46;' + 'c&#111;m';
				var addy_texte002922d15b0b6a2df043f8446e49c9e = 'r&#97;ng&#101;r1275' + '&#64;' + 'h&#111;tm&#97;&#105;l' + '&#46;' + 'c&#111;m';document.getElementById('cloake002922d15b0b6a2df043f8446e49c9e').innerHTML += '<a ' + path + '\'' + prefix + ':' + addye002922d15b0b6a2df043f8446e49c9e + '\'>'+addy_texte002922d15b0b6a2df043f8446e49c9e+'';
		
X-EXTRAINFO:Current agenda: http://www.oxfordms.net/tree-board-agenda (http://www.oxfor
 dms.net/tree-board-agenda)
DTSTAMP:20260419T122553
DTSTART;TZID=America/Chicago:20210708T110000
DTEND;TZID=America/Chicago:20210708T235959
RECURRENCE-ID;TZID=America/Chicago:20210701T110000
SEQUENCE:0
TRANSP:OPAQUE
END:VEVENT
BEGIN:VEVENT
UID:9539c8fa7b0de16e11d944ff560fe46a
CATEGORIES:Meetings
CREATED:20150504T094001
SUMMARY:Tree Board - Canceled
LOCATION:RSVP Conference Room
DESCRIPTION:
URL;VALUE=URI:https://www.oxfordms.net/calendar/icalrepeat.detail/2021/12/02/4661/-/tree-
 board-canceled?tmpl=component
CONTACT:Hume Bryant, Co-Chairman: This email address is being protected from spambots. You need JavaScript enabled to view it.
				document.getElementById('cloak8bc265a5820504050eee5a56579fc7ab').innerHTML = '';
				var prefix = '&#109;a' + 'i&#108;' + '&#116;o';
				var path = 'hr' + 'ef' + '=';
				var addy8bc265a5820504050eee5a56579fc7ab = 'bry&#97;h1207' + '&#64;';
				addy8bc265a5820504050eee5a56579fc7ab = addy8bc265a5820504050eee5a56579fc7ab + 'y&#97;h&#111;&#111;' + '&#46;' + 'c&#111;m';
				var addy_text8bc265a5820504050eee5a56579fc7ab = 'bry&#97;h1207' + '&#64;' + 'y&#97;h&#111;&#111;' + '&#46;' + 'c&#111;m';document.getElementById('cloak8bc265a5820504050eee5a56579fc7ab').innerHTML += '<a ' + path + '\'' + prefix + ':' + addy8bc265a5820504050eee5a56579fc7ab + '\'>'+addy_text8bc265a5820504050eee5a56579fc7ab+'';
		. Cowan Hunter, Co-Chairman: This email address is being protected from spambots. You need JavaScript enabled to view it.
				document.getElementById('cloak90a5d7cde6fe0170b6b73002adbf368a').innerHTML = '';
				var prefix = '&#109;a' + 'i&#108;' + '&#116;o';
				var path = 'hr' + 'ef' + '=';
				var addy90a5d7cde6fe0170b6b73002adbf368a = 'r&#97;ng&#101;r1275' + '&#64;';
				addy90a5d7cde6fe0170b6b73002adbf368a = addy90a5d7cde6fe0170b6b73002adbf368a + 'h&#111;tm&#97;&#105;l' + '&#46;' + 'c&#111;m';
				var addy_text90a5d7cde6fe0170b6b73002adbf368a = 'r&#97;ng&#101;r1275' + '&#64;' + 'h&#111;tm&#97;&#105;l' + '&#46;' + 'c&#111;m';document.getElementById('cloak90a5d7cde6fe0170b6b73002adbf368a').innerHTML += '<a ' + path + '\'' + prefix + ':' + addy90a5d7cde6fe0170b6b73002adbf368a + '\'>'+addy_text90a5d7cde6fe0170b6b73002adbf368a+'';
		
X-EXTRAINFO:Current agenda: http://www.oxfordms.net/tree-board-agenda (http://www.oxfor
 dms.net/tree-board-agenda)
DTSTAMP:20260419T122553
DTSTART;TZID=America/Chicago:20211202T110000
DTEND;TZID=America/Chicago:20211202T235959
RECURRENCE-ID;TZID=America/Chicago:20211202T110000
SEQUENCE:0
TRANSP:OPAQUE
END:VEVENT
BEGIN:VEVENT
UID:9539c8fa7b0de16e11d944ff560fe46a
CATEGORIES:Meetings
CREATED:20150504T094001
SUMMARY:Tree Board - Canceled
LOCATION:Courtroom, City Hall
DESCRIPTION:
URL;VALUE=URI:https://www.oxfordms.net/calendar/icalrepeat.detail/2022/12/01/4673/-/tree-
 board-canceled?tmpl=component
CONTACT:Hume Bryant, Co-Chairman: This email address is being protected from spambots. You need JavaScript enabled to view it.
				document.getElementById('cloak4c4fed736daa3bdc45a8ded52281f6bc').innerHTML = '';
				var prefix = '&#109;a' + 'i&#108;' + '&#116;o';
				var path = 'hr' + 'ef' + '=';
				var addy4c4fed736daa3bdc45a8ded52281f6bc = 'bry&#97;h1207' + '&#64;';
				addy4c4fed736daa3bdc45a8ded52281f6bc = addy4c4fed736daa3bdc45a8ded52281f6bc + 'y&#97;h&#111;&#111;' + '&#46;' + 'c&#111;m';
				var addy_text4c4fed736daa3bdc45a8ded52281f6bc = 'bry&#97;h1207' + '&#64;' + 'y&#97;h&#111;&#111;' + '&#46;' + 'c&#111;m';document.getElementById('cloak4c4fed736daa3bdc45a8ded52281f6bc').innerHTML += '<a ' + path + '\'' + prefix + ':' + addy4c4fed736daa3bdc45a8ded52281f6bc + '\'>'+addy_text4c4fed736daa3bdc45a8ded52281f6bc+'';
		. Cowan Hunter, Co-Chairman: This email address is being protected from spambots. You need JavaScript enabled to view it.
				document.getElementById('cloak30e29b104d24e9b3a4d80e12bbbb578e').innerHTML = '';
				var prefix = '&#109;a' + 'i&#108;' + '&#116;o';
				var path = 'hr' + 'ef' + '=';
				var addy30e29b104d24e9b3a4d80e12bbbb578e = 'r&#97;ng&#101;r1275' + '&#64;';
				addy30e29b104d24e9b3a4d80e12bbbb578e = addy30e29b104d24e9b3a4d80e12bbbb578e + 'h&#111;tm&#97;&#105;l' + '&#46;' + 'c&#111;m';
				var addy_text30e29b104d24e9b3a4d80e12bbbb578e = 'r&#97;ng&#101;r1275' + '&#64;' + 'h&#111;tm&#97;&#105;l' + '&#46;' + 'c&#111;m';document.getElementById('cloak30e29b104d24e9b3a4d80e12bbbb578e').innerHTML += '<a ' + path + '\'' + prefix + ':' + addy30e29b104d24e9b3a4d80e12bbbb578e + '\'>'+addy_text30e29b104d24e9b3a4d80e12bbbb578e+'';
		
X-EXTRAINFO:Current agenda: http://www.oxfordms.net/tree-board-agenda (http://www.oxfor
 dms.net/tree-board-agenda)
DTSTAMP:20260419T122553
DTSTART;TZID=America/Chicago:20221201T110000
DTEND;TZID=America/Chicago:20221201T235959
RECURRENCE-ID;TZID=America/Chicago:20221201T110000
SEQUENCE:0
TRANSP:OPAQUE
END:VEVENT
BEGIN:VEVENT
UID:9539c8fa7b0de16e11d944ff560fe46a
CATEGORIES:Meetings
CREATED:20150504T094001
SUMMARY:Tree Board - Canceled
LOCATION:Courtroom, City Hall
DESCRIPTION:
URL;VALUE=URI:https://www.oxfordms.net/calendar/icalrepeat.detail/2024/04/04/4689/-/tree-
 board-canceled?tmpl=component
CONTACT:Hume Bryant, Co-Chairman: This email address is being protected from spambots. You need JavaScript enabled to view it.
				document.getElementById('cloak5b334fddfcedaecce559eeef9609ae7d').innerHTML = '';
				var prefix = '&#109;a' + 'i&#108;' + '&#116;o';
				var path = 'hr' + 'ef' + '=';
				var addy5b334fddfcedaecce559eeef9609ae7d = 'bry&#97;h1207' + '&#64;';
				addy5b334fddfcedaecce559eeef9609ae7d = addy5b334fddfcedaecce559eeef9609ae7d + 'y&#97;h&#111;&#111;' + '&#46;' + 'c&#111;m';
				var addy_text5b334fddfcedaecce559eeef9609ae7d = 'bry&#97;h1207' + '&#64;' + 'y&#97;h&#111;&#111;' + '&#46;' + 'c&#111;m';document.getElementById('cloak5b334fddfcedaecce559eeef9609ae7d').innerHTML += '<a ' + path + '\'' + prefix + ':' + addy5b334fddfcedaecce559eeef9609ae7d + '\'>'+addy_text5b334fddfcedaecce559eeef9609ae7d+'';
		. Cowan Hunter, Co-Chairman: This email address is being protected from spambots. You need JavaScript enabled to view it.
				document.getElementById('cloak4c90839a2f6a1eb50ad4796bf04f1ff1').innerHTML = '';
				var prefix = '&#109;a' + 'i&#108;' + '&#116;o';
				var path = 'hr' + 'ef' + '=';
				var addy4c90839a2f6a1eb50ad4796bf04f1ff1 = 'r&#97;ng&#101;r1275' + '&#64;';
				addy4c90839a2f6a1eb50ad4796bf04f1ff1 = addy4c90839a2f6a1eb50ad4796bf04f1ff1 + 'h&#111;tm&#97;&#105;l' + '&#46;' + 'c&#111;m';
				var addy_text4c90839a2f6a1eb50ad4796bf04f1ff1 = 'r&#97;ng&#101;r1275' + '&#64;' + 'h&#111;tm&#97;&#105;l' + '&#46;' + 'c&#111;m';document.getElementById('cloak4c90839a2f6a1eb50ad4796bf04f1ff1').innerHTML += '<a ' + path + '\'' + prefix + ':' + addy4c90839a2f6a1eb50ad4796bf04f1ff1 + '\'>'+addy_text4c90839a2f6a1eb50ad4796bf04f1ff1+'';
		
X-EXTRAINFO:Current agenda: http://www.oxfordms.net/tree-board-agenda (http://www.oxfor
 dms.net/tree-board-agenda)
DTSTAMP:20260419T122553
DTSTART;TZID=America/Chicago:20240404T110000
DTEND;TZID=America/Chicago:20240404T235959
RECURRENCE-ID;TZID=America/Chicago:20240404T110000
SEQUENCE:0
TRANSP:OPAQUE
END:VEVENT
BEGIN:VEVENT
UID:9539c8fa7b0de16e11d944ff560fe46a
CATEGORIES:Meetings
CREATED:20150504T094001
SUMMARY:Tree Board
LOCATION:Courtroom, City Hall
DESCRIPTION:
URL;VALUE=URI:https://www.oxfordms.net/calendar/icalrepeat.detail/2024/07/11/4692/-/tree-
 board?tmpl=component
CONTACT:Hume Bryant, Co-Chairman: This email address is being protected from spambots. You need JavaScript enabled to view it.
				document.getElementById('cloak91955f5c21c51b601f7558b2be9edbf2').innerHTML = '';
				var prefix = '&#109;a' + 'i&#108;' + '&#116;o';
				var path = 'hr' + 'ef' + '=';
				var addy91955f5c21c51b601f7558b2be9edbf2 = 'bry&#97;h1207' + '&#64;';
				addy91955f5c21c51b601f7558b2be9edbf2 = addy91955f5c21c51b601f7558b2be9edbf2 + 'y&#97;h&#111;&#111;' + '&#46;' + 'c&#111;m';
				var addy_text91955f5c21c51b601f7558b2be9edbf2 = 'bry&#97;h1207' + '&#64;' + 'y&#97;h&#111;&#111;' + '&#46;' + 'c&#111;m';document.getElementById('cloak91955f5c21c51b601f7558b2be9edbf2').innerHTML += '<a ' + path + '\'' + prefix + ':' + addy91955f5c21c51b601f7558b2be9edbf2 + '\'>'+addy_text91955f5c21c51b601f7558b2be9edbf2+'';
		. Cowan Hunter, Co-Chairman: This email address is being protected from spambots. You need JavaScript enabled to view it.
				document.getElementById('cloak6845ea2fea2bd3846d6cae86efc431da').innerHTML = '';
				var prefix = '&#109;a' + 'i&#108;' + '&#116;o';
				var path = 'hr' + 'ef' + '=';
				var addy6845ea2fea2bd3846d6cae86efc431da = 'r&#97;ng&#101;r1275' + '&#64;';
				addy6845ea2fea2bd3846d6cae86efc431da = addy6845ea2fea2bd3846d6cae86efc431da + 'h&#111;tm&#97;&#105;l' + '&#46;' + 'c&#111;m';
				var addy_text6845ea2fea2bd3846d6cae86efc431da = 'r&#97;ng&#101;r1275' + '&#64;' + 'h&#111;tm&#97;&#105;l' + '&#46;' + 'c&#111;m';document.getElementById('cloak6845ea2fea2bd3846d6cae86efc431da').innerHTML += '<a ' + path + '\'' + prefix + ':' + addy6845ea2fea2bd3846d6cae86efc431da + '\'>'+addy_text6845ea2fea2bd3846d6cae86efc431da+'';
		
X-EXTRAINFO:Current agenda: http://www.oxfordms.net/tree-board-agenda (http://www.oxfor
 dms.net/tree-board-agenda)
DTSTAMP:20260419T122553
DTSTART;TZID=America/Chicago:20240711T110000
DTEND;TZID=America/Chicago:20240711T235959
RECURRENCE-ID;TZID=America/Chicago:20240704T110000
SEQUENCE:0
TRANSP:OPAQUE
END:VEVENT
BEGIN:VEVENT
UID:9539c8fa7b0de16e11d944ff560fe46a
CATEGORIES:Meetings
CREATED:20150504T094001
SUMMARY:Tree Board - Canceled
LOCATION:Courtroom, City Hall
DESCRIPTION:
URL;VALUE=URI:https://www.oxfordms.net/calendar/icalrepeat.detail/2025/01/02/4698/-/tree-
 board-canceled?tmpl=component
CONTACT:Hume Bryant, Co-Chairman: This email address is being protected from spambots. You need JavaScript enabled to view it.
				document.getElementById('cloak42b253fdd0c1ab8f6b42f54fc1aa500e').innerHTML = '';
				var prefix = '&#109;a' + 'i&#108;' + '&#116;o';
				var path = 'hr' + 'ef' + '=';
				var addy42b253fdd0c1ab8f6b42f54fc1aa500e = 'bry&#97;h1207' + '&#64;';
				addy42b253fdd0c1ab8f6b42f54fc1aa500e = addy42b253fdd0c1ab8f6b42f54fc1aa500e + 'y&#97;h&#111;&#111;' + '&#46;' + 'c&#111;m';
				var addy_text42b253fdd0c1ab8f6b42f54fc1aa500e = 'bry&#97;h1207' + '&#64;' + 'y&#97;h&#111;&#111;' + '&#46;' + 'c&#111;m';document.getElementById('cloak42b253fdd0c1ab8f6b42f54fc1aa500e').innerHTML += '<a ' + path + '\'' + prefix + ':' + addy42b253fdd0c1ab8f6b42f54fc1aa500e + '\'>'+addy_text42b253fdd0c1ab8f6b42f54fc1aa500e+'';
		. Cowan Hunter, Co-Chairman: This email address is being protected from spambots. You need JavaScript enabled to view it.
				document.getElementById('cloak3ebe87001d19a4ff15e4cd22626731b5').innerHTML = '';
				var prefix = '&#109;a' + 'i&#108;' + '&#116;o';
				var path = 'hr' + 'ef' + '=';
				var addy3ebe87001d19a4ff15e4cd22626731b5 = 'r&#97;ng&#101;r1275' + '&#64;';
				addy3ebe87001d19a4ff15e4cd22626731b5 = addy3ebe87001d19a4ff15e4cd22626731b5 + 'h&#111;tm&#97;&#105;l' + '&#46;' + 'c&#111;m';
				var addy_text3ebe87001d19a4ff15e4cd22626731b5 = 'r&#97;ng&#101;r1275' + '&#64;' + 'h&#111;tm&#97;&#105;l' + '&#46;' + 'c&#111;m';document.getElementById('cloak3ebe87001d19a4ff15e4cd22626731b5').innerHTML += '<a ' + path + '\'' + prefix + ':' + addy3ebe87001d19a4ff15e4cd22626731b5 + '\'>'+addy_text3ebe87001d19a4ff15e4cd22626731b5+'';
		
X-EXTRAINFO:Current agenda: http://www.oxfordms.net/tree-board-agenda (http://www.oxfor
 dms.net/tree-board-agenda)
DTSTAMP:20260419T122553
DTSTART;TZID=America/Chicago:20250102T110000
DTEND;TZID=America/Chicago:20250102T235959
RECURRENCE-ID;TZID=America/Chicago:20250102T110000
SEQUENCE:0
TRANSP:OPAQUE
END:VEVENT
BEGIN:VEVENT
UID:9539c8fa7b0de16e11d944ff560fe46a
CATEGORIES:Meetings
CREATED:20150504T094001
SUMMARY:Tree Board - Canceled
LOCATION:Courtroom, City Hall
DESCRIPTION:
URL;VALUE=URI:https://www.oxfordms.net/calendar/icalrepeat.detail/2026/02/05/4711/-/tree-
 board-canceled?tmpl=component
CONTACT:Hume Bryant, Co-Chairman: This email address is being protected from spambots. You need JavaScript enabled to view it.
				document.getElementById('cloakca7e6861c78e7e314631b120fd02973d').innerHTML = '';
				var prefix = '&#109;a' + 'i&#108;' + '&#116;o';
				var path = 'hr' + 'ef' + '=';
				var addyca7e6861c78e7e314631b120fd02973d = 'bry&#97;h1207' + '&#64;';
				addyca7e6861c78e7e314631b120fd02973d = addyca7e6861c78e7e314631b120fd02973d + 'y&#97;h&#111;&#111;' + '&#46;' + 'c&#111;m';
				var addy_textca7e6861c78e7e314631b120fd02973d = 'bry&#97;h1207' + '&#64;' + 'y&#97;h&#111;&#111;' + '&#46;' + 'c&#111;m';document.getElementById('cloakca7e6861c78e7e314631b120fd02973d').innerHTML += '<a ' + path + '\'' + prefix + ':' + addyca7e6861c78e7e314631b120fd02973d + '\'>'+addy_textca7e6861c78e7e314631b120fd02973d+'';
		. Cowan Hunter, Co-Chairman: This email address is being protected from spambots. You need JavaScript enabled to view it.
				document.getElementById('cloake49ae2827d7b36016746753ff0f7b0cc').innerHTML = '';
				var prefix = '&#109;a' + 'i&#108;' + '&#116;o';
				var path = 'hr' + 'ef' + '=';
				var addye49ae2827d7b36016746753ff0f7b0cc = 'r&#97;ng&#101;r1275' + '&#64;';
				addye49ae2827d7b36016746753ff0f7b0cc = addye49ae2827d7b36016746753ff0f7b0cc + 'h&#111;tm&#97;&#105;l' + '&#46;' + 'c&#111;m';
				var addy_texte49ae2827d7b36016746753ff0f7b0cc = 'r&#97;ng&#101;r1275' + '&#64;' + 'h&#111;tm&#97;&#105;l' + '&#46;' + 'c&#111;m';document.getElementById('cloake49ae2827d7b36016746753ff0f7b0cc').innerHTML += '<a ' + path + '\'' + prefix + ':' + addye49ae2827d7b36016746753ff0f7b0cc + '\'>'+addy_texte49ae2827d7b36016746753ff0f7b0cc+'';
		
X-EXTRAINFO:Current agenda: http://www.oxfordms.net/tree-board-agenda (http://www.oxfor
 dms.net/tree-board-agenda)
DTSTAMP:20260419T122553
DTSTART;TZID=America/Chicago:20260205T110000
DTEND;TZID=America/Chicago:20260205T235959
RECURRENCE-ID;TZID=America/Chicago:20260205T110000
SEQUENCE:0
TRANSP:OPAQUE
END:VEVENT
BEGIN:VEVENT
UID:9539c8fa7b0de16e11d944ff560fe46a
CATEGORIES:Meetings
CREATED:20150504T094001
SUMMARY:Tree Board
LOCATION:Courtroom, City Hall
DESCRIPTION:
URL;VALUE=URI:https://www.oxfordms.net/calendar/icalrepeat.detail/2026/03/16/4712/-/tree-
 board?tmpl=component
CONTACT:Hume Bryant, Co-Chairman: This email address is being protected from spambots. You need JavaScript enabled to view it.
				document.getElementById('cloakf877cecf5f6e519873b4602d29abdab5').innerHTML = '';
				var prefix = '&#109;a' + 'i&#108;' + '&#116;o';
				var path = 'hr' + 'ef' + '=';
				var addyf877cecf5f6e519873b4602d29abdab5 = 'bry&#97;h1207' + '&#64;';
				addyf877cecf5f6e519873b4602d29abdab5 = addyf877cecf5f6e519873b4602d29abdab5 + 'y&#97;h&#111;&#111;' + '&#46;' + 'c&#111;m';
				var addy_textf877cecf5f6e519873b4602d29abdab5 = 'bry&#97;h1207' + '&#64;' + 'y&#97;h&#111;&#111;' + '&#46;' + 'c&#111;m';document.getElementById('cloakf877cecf5f6e519873b4602d29abdab5').innerHTML += '<a ' + path + '\'' + prefix + ':' + addyf877cecf5f6e519873b4602d29abdab5 + '\'>'+addy_textf877cecf5f6e519873b4602d29abdab5+'';
		. Cowan Hunter, Co-Chairman: This email address is being protected from spambots. You need JavaScript enabled to view it.
				document.getElementById('cloak1e7d2d8114edf84502e40bc4dfa64ab7').innerHTML = '';
				var prefix = '&#109;a' + 'i&#108;' + '&#116;o';
				var path = 'hr' + 'ef' + '=';
				var addy1e7d2d8114edf84502e40bc4dfa64ab7 = 'r&#97;ng&#101;r1275' + '&#64;';
				addy1e7d2d8114edf84502e40bc4dfa64ab7 = addy1e7d2d8114edf84502e40bc4dfa64ab7 + 'h&#111;tm&#97;&#105;l' + '&#46;' + 'c&#111;m';
				var addy_text1e7d2d8114edf84502e40bc4dfa64ab7 = 'r&#97;ng&#101;r1275' + '&#64;' + 'h&#111;tm&#97;&#105;l' + '&#46;' + 'c&#111;m';document.getElementById('cloak1e7d2d8114edf84502e40bc4dfa64ab7').innerHTML += '<a ' + path + '\'' + prefix + ':' + addy1e7d2d8114edf84502e40bc4dfa64ab7 + '\'>'+addy_text1e7d2d8114edf84502e40bc4dfa64ab7+'';
		
X-EXTRAINFO:Current agenda: http://www.oxfordms.net/tree-board-agenda (http://www.oxfor
 dms.net/tree-board-agenda)
DTSTAMP:20260419T122553
DTSTART;TZID=America/Chicago:20260316T130000
DTEND;TZID=America/Chicago:20260316T235959
RECURRENCE-ID;TZID=America/Chicago:20260305T110000
SEQUENCE:0
TRANSP:OPAQUE
END:VEVENT
BEGIN:VEVENT
UID:9539c8fa7b0de16e11d944ff560fe46a
CATEGORIES:Meetings
CREATED:20150504T094001
SUMMARY:Tree Board - Canceled
LOCATION:Courtroom, City Hall
DESCRIPTION:
URL;VALUE=URI:https://www.oxfordms.net/calendar/icalrepeat.detail/2026/04/02/4713/-/tree-
 board-canceled?tmpl=component
CONTACT:Hume Bryant, Co-Chairman: This email address is being protected from spambots. You need JavaScript enabled to view it.
				document.getElementById('cloak1fc08b7f5a7dc93f6ec5a00e6047c8d9').innerHTML = '';
				var prefix = '&#109;a' + 'i&#108;' + '&#116;o';
				var path = 'hr' + 'ef' + '=';
				var addy1fc08b7f5a7dc93f6ec5a00e6047c8d9 = 'bry&#97;h1207' + '&#64;';
				addy1fc08b7f5a7dc93f6ec5a00e6047c8d9 = addy1fc08b7f5a7dc93f6ec5a00e6047c8d9 + 'y&#97;h&#111;&#111;' + '&#46;' + 'c&#111;m';
				var addy_text1fc08b7f5a7dc93f6ec5a00e6047c8d9 = 'bry&#97;h1207' + '&#64;' + 'y&#97;h&#111;&#111;' + '&#46;' + 'c&#111;m';document.getElementById('cloak1fc08b7f5a7dc93f6ec5a00e6047c8d9').innerHTML += '<a ' + path + '\'' + prefix + ':' + addy1fc08b7f5a7dc93f6ec5a00e6047c8d9 + '\'>'+addy_text1fc08b7f5a7dc93f6ec5a00e6047c8d9+'';
		. Cowan Hunter, Co-Chairman: This email address is being protected from spambots. You need JavaScript enabled to view it.
				document.getElementById('cloak7e185cf687a79752532c3b19a77fbee7').innerHTML = '';
				var prefix = '&#109;a' + 'i&#108;' + '&#116;o';
				var path = 'hr' + 'ef' + '=';
				var addy7e185cf687a79752532c3b19a77fbee7 = 'r&#97;ng&#101;r1275' + '&#64;';
				addy7e185cf687a79752532c3b19a77fbee7 = addy7e185cf687a79752532c3b19a77fbee7 + 'h&#111;tm&#97;&#105;l' + '&#46;' + 'c&#111;m';
				var addy_text7e185cf687a79752532c3b19a77fbee7 = 'r&#97;ng&#101;r1275' + '&#64;' + 'h&#111;tm&#97;&#105;l' + '&#46;' + 'c&#111;m';document.getElementById('cloak7e185cf687a79752532c3b19a77fbee7').innerHTML += '<a ' + path + '\'' + prefix + ':' + addy7e185cf687a79752532c3b19a77fbee7 + '\'>'+addy_text7e185cf687a79752532c3b19a77fbee7+'';
		
X-EXTRAINFO:Current agenda: http://www.oxfordms.net/tree-board-agenda (http://www.oxfor
 dms.net/tree-board-agenda)
DTSTAMP:20260419T122553
DTSTART;TZID=America/Chicago:20260402T110000
DTEND;TZID=America/Chicago:20260402T235959
RECURRENCE-ID;TZID=America/Chicago:20260402T110000
SEQUENCE:0
TRANSP:OPAQUE
END:VEVENT
END:VCALENDAR