BEGIN:VCALENDAR
VERSION:2.0
PRODID:-//jEvents 2.0 for Joomla//EN
CALSCALE:GREGORIAN
METHOD:PUBLISH
BEGIN:VTIMEZONE
TZID:America/Chicago
BEGIN:STANDARD
DTSTART:20191203T110000
RDATE:20200308T030000
TZOFFSETFROM:-0500
TZOFFSETTO:-0600
TZNAME:America/Chicago CST
END:STANDARD
BEGIN:STANDARD
DTSTART:20201101T010000
RDATE:20210314T030000
TZOFFSETFROM:-0500
TZOFFSETTO:-0600
TZNAME:America/Chicago CST
END:STANDARD
BEGIN:DAYLIGHT
DTSTART:20200308T030000
RDATE:20201101T010000
TZOFFSETFROM:-0600
TZOFFSETTO:-0500
TZNAME:America/Chicago CDT
END:DAYLIGHT
END:VTIMEZONE
BEGIN:VEVENT
UID:9539c8fa7b0de16e11d944ff560fe46a
CATEGORIES:Meetings
CREATED:20150504T094001
SUMMARY:Tree Board
LOCATION:Courtroom\, City Hall
DESCRIPTION:
CONTACT:Hume Bryant, Co-Chairman: This email address is being protected from spambots. You need JavaScript enabled to view it.
				document.getElementById('cloak20246cfb5b205bf0d4fc2b9085810ef0').innerHTML = '';
				var prefix = '&#109;a' + 'i&#108;' + '&#116;o';
				var path = 'hr' + 'ef' + '=';
				var addy20246cfb5b205bf0d4fc2b9085810ef0 = 'bry&#97;h1207' + '&#64;';
				addy20246cfb5b205bf0d4fc2b9085810ef0 = addy20246cfb5b205bf0d4fc2b9085810ef0 + 'y&#97;h&#111;&#111;' + '&#46;' + 'c&#111;m';
				var addy_text20246cfb5b205bf0d4fc2b9085810ef0 = 'bry&#97;h1207' + '&#64;' + 'y&#97;h&#111;&#111;' + '&#46;' + 'c&#111;m';document.getElementById('cloak20246cfb5b205bf0d4fc2b9085810ef0').innerHTML += '<a ' + path + '\'' + prefix + ':' + addy20246cfb5b205bf0d4fc2b9085810ef0 + '\'>'+addy_text20246cfb5b205bf0d4fc2b9085810ef0+'';
		. Cowan Hunter, Co-Chairman: This email address is being protected from spambots. You need JavaScript enabled to view it.
				document.getElementById('cloak267c44089b184349011fbe13cff76de0').innerHTML = '';
				var prefix = '&#109;a' + 'i&#108;' + '&#116;o';
				var path = 'hr' + 'ef' + '=';
				var addy267c44089b184349011fbe13cff76de0 = 'r&#97;ng&#101;r1275' + '&#64;';
				addy267c44089b184349011fbe13cff76de0 = addy267c44089b184349011fbe13cff76de0 + 'h&#111;tm&#97;&#105;l' + '&#46;' + 'c&#111;m';
				var addy_text267c44089b184349011fbe13cff76de0 = 'r&#97;ng&#101;r1275' + '&#64;' + 'h&#111;tm&#97;&#105;l' + '&#46;' + 'c&#111;m';document.getElementById('cloak267c44089b184349011fbe13cff76de0').innerHTML += '<a ' + path + '\'' + prefix + ':' + addy267c44089b184349011fbe13cff76de0 + '\'>'+addy_text267c44089b184349011fbe13cff76de0+'';
		
X-EXTRAINFO:Current agenda: http://www.oxfordms.net/tree-board-agenda (http://www.oxfor
 dms.net/tree-board-agenda)
DTSTAMP:20260421T090909
DTSTART;TZID=America/Chicago:20201203T110000
SEQUENCE:0
TRANSP:OPAQUE
END:VEVENT
END:VCALENDAR