BEGIN:VCALENDAR
VERSION:2.0
PRODID:-//jEvents 2.0 for Joomla//EN
CALSCALE:GREGORIAN
METHOD:PUBLISH
BEGIN:VTIMEZONE
TZID:America/Chicago
BEGIN:STANDARD
DTSTART:20190101T110000
RDATE:20190310T030000
TZOFFSETFROM:-0500
TZOFFSETTO:-0600
TZNAME:America/Chicago CST
END:STANDARD
BEGIN:STANDARD
DTSTART:20191103T010000
RDATE:20200308T030000
TZOFFSETFROM:-0500
TZOFFSETTO:-0600
TZNAME:America/Chicago CST
END:STANDARD
BEGIN:STANDARD
DTSTART:20201101T010000
RDATE:20210314T030000
TZOFFSETFROM:-0500
TZOFFSETTO:-0600
TZNAME:America/Chicago CST
END:STANDARD
BEGIN:DAYLIGHT
DTSTART:20190310T030000
RDATE:20191103T010000
TZOFFSETFROM:-0600
TZOFFSETTO:-0500
TZNAME:America/Chicago CDT
END:DAYLIGHT
BEGIN:DAYLIGHT
DTSTART:20200308T030000
RDATE:20201101T010000
TZOFFSETFROM:-0600
TZOFFSETTO:-0500
TZNAME:America/Chicago CDT
END:DAYLIGHT
END:VTIMEZONE
BEGIN:VEVENT
UID:9539c8fa7b0de16e11d944ff560fe46a
CATEGORIES:Meetings
CREATED:20150504T094001
SUMMARY:Tree Board
LOCATION:Courtroom\, City Hall
DESCRIPTION:
CONTACT:Hume Bryant, Co-Chairman: This email address is being protected from spambots. You need JavaScript enabled to view it.
				document.getElementById('cloakd725d50c35db878928756bce93bd9ef3').innerHTML = '';
				var prefix = '&#109;a' + 'i&#108;' + '&#116;o';
				var path = 'hr' + 'ef' + '=';
				var addyd725d50c35db878928756bce93bd9ef3 = 'bry&#97;h1207' + '&#64;';
				addyd725d50c35db878928756bce93bd9ef3 = addyd725d50c35db878928756bce93bd9ef3 + 'y&#97;h&#111;&#111;' + '&#46;' + 'c&#111;m';
				var addy_textd725d50c35db878928756bce93bd9ef3 = 'bry&#97;h1207' + '&#64;' + 'y&#97;h&#111;&#111;' + '&#46;' + 'c&#111;m';document.getElementById('cloakd725d50c35db878928756bce93bd9ef3').innerHTML += '<a ' + path + '\'' + prefix + ':' + addyd725d50c35db878928756bce93bd9ef3 + '\'>'+addy_textd725d50c35db878928756bce93bd9ef3+'';
		. Cowan Hunter, Co-Chairman: This email address is being protected from spambots. You need JavaScript enabled to view it.
				document.getElementById('cloak40cfce27387d6959b3a929209e6d1bb6').innerHTML = '';
				var prefix = '&#109;a' + 'i&#108;' + '&#116;o';
				var path = 'hr' + 'ef' + '=';
				var addy40cfce27387d6959b3a929209e6d1bb6 = 'r&#97;ng&#101;r1275' + '&#64;';
				addy40cfce27387d6959b3a929209e6d1bb6 = addy40cfce27387d6959b3a929209e6d1bb6 + 'h&#111;tm&#97;&#105;l' + '&#46;' + 'c&#111;m';
				var addy_text40cfce27387d6959b3a929209e6d1bb6 = 'r&#97;ng&#101;r1275' + '&#64;' + 'h&#111;tm&#97;&#105;l' + '&#46;' + 'c&#111;m';document.getElementById('cloak40cfce27387d6959b3a929209e6d1bb6').innerHTML += '<a ' + path + '\'' + prefix + ':' + addy40cfce27387d6959b3a929209e6d1bb6 + '\'>'+addy_text40cfce27387d6959b3a929209e6d1bb6+'';
		
X-EXTRAINFO:Current agenda: http://www.oxfordms.net/tree-board-agenda (http://www.oxfor
 dms.net/tree-board-agenda)
DTSTAMP:20260425T002425
DTSTART;TZID=America/Chicago:20200102T110000
SEQUENCE:0
TRANSP:OPAQUE
END:VEVENT
END:VCALENDAR