BEGIN:VCALENDAR
VERSION:2.0
PRODID:-//jEvents 2.0 for Joomla//EN
CALSCALE:GREGORIAN
METHOD:PUBLISH
BEGIN:VTIMEZONE
TZID:America/Chicago
END:VTIMEZONE
BEGIN:VEVENT
UID:94e434d44c2309eaee3688628a5e23c6
CATEGORIES:Meetings
CREATED:20170109T112354
SUMMARY:Pathways Commission
LOCATION:City Hall
DESCRIPTION:
CONTACT:Don Feitel, Chair: This email address is being protected from spambots. You need JavaScript enabled to view it.
				document.getElementById('cloak1aa60ed5be0a8cab74ee3d5c5604d642').innerHTML = '';
				var prefix = '&#109;a' + 'i&#108;' + '&#116;o';
				var path = 'hr' + 'ef' + '=';
				var addy1aa60ed5be0a8cab74ee3d5c5604d642 = 'df&#101;&#105;t&#101;l' + '&#64;';
				addy1aa60ed5be0a8cab74ee3d5c5604d642 = addy1aa60ed5be0a8cab74ee3d5c5604d642 + 'gm&#97;&#105;l' + '&#46;' + 'c&#111;m';
				var addy_text1aa60ed5be0a8cab74ee3d5c5604d642 = 'df&#101;&#105;t&#101;l' + '&#64;' + 'gm&#97;&#105;l' + '&#46;' + 'c&#111;m';document.getElementById('cloak1aa60ed5be0a8cab74ee3d5c5604d642').innerHTML += '<a ' + path + '\'' + prefix + ':' + addy1aa60ed5be0a8cab74ee3d5c5604d642 + '\'>'+addy_text1aa60ed5be0a8cab74ee3d5c5604d642+'';
		
X-EXTRAINFO:Agenda: http://www.oxfordms.net/pathways-commission-agenda (http://www.oxfo
 rdms.net/pathways-commission-agenda)
DTSTAMP:20260422T105906
DTSTART;TZID=America/Chicago:20251027T170000
SEQUENCE:0
TRANSP:OPAQUE
END:VEVENT
END:VCALENDAR