BEGIN:VCALENDAR
VERSION:2.0
PRODID:-//jEvents 2.0 for Joomla//EN
CALSCALE:GREGORIAN
METHOD:PUBLISH
BEGIN:VTIMEZONE
TZID:America/Chicago
END:VTIMEZONE
BEGIN:VEVENT
UID:94e434d44c2309eaee3688628a5e23c6
CATEGORIES:Meetings
CREATED:20170109T112354
SUMMARY:Pathways Commission
LOCATION:City Hall
DESCRIPTION:
CONTACT:Don Feitel, Chair: This email address is being protected from spambots. You need JavaScript enabled to view it.
				document.getElementById('cloakb688f2cc5f907f0e9b41b875d4564f5d').innerHTML = '';
				var prefix = '&#109;a' + 'i&#108;' + '&#116;o';
				var path = 'hr' + 'ef' + '=';
				var addyb688f2cc5f907f0e9b41b875d4564f5d = 'df&#101;&#105;t&#101;l' + '&#64;';
				addyb688f2cc5f907f0e9b41b875d4564f5d = addyb688f2cc5f907f0e9b41b875d4564f5d + 'gm&#97;&#105;l' + '&#46;' + 'c&#111;m';
				var addy_textb688f2cc5f907f0e9b41b875d4564f5d = 'df&#101;&#105;t&#101;l' + '&#64;' + 'gm&#97;&#105;l' + '&#46;' + 'c&#111;m';document.getElementById('cloakb688f2cc5f907f0e9b41b875d4564f5d').innerHTML += '<a ' + path + '\'' + prefix + ':' + addyb688f2cc5f907f0e9b41b875d4564f5d + '\'>'+addy_textb688f2cc5f907f0e9b41b875d4564f5d+'';
		
X-EXTRAINFO:Agenda: http://www.oxfordms.net/pathways-commission-agenda (http://www.oxfo
 rdms.net/pathways-commission-agenda)
DTSTAMP:20260419T185007
DTSTART;TZID=America/Chicago:20221024T170000
SEQUENCE:0
TRANSP:OPAQUE
END:VEVENT
END:VCALENDAR