BEGIN:VCALENDAR
VERSION:2.0
PRODID:-//jEvents 2.0 for Joomla//EN
CALSCALE:GREGORIAN
METHOD:PUBLISH
BEGIN:VTIMEZONE
TZID:America/Chicago
BEGIN:STANDARD
DTSTART:20141102T010000
RDATE:20150308T030000
TZOFFSETFROM:-0500
TZOFFSETTO:-0600
TZNAME:America/Chicago CST
END:STANDARD
BEGIN:STANDARD
DTSTART:20151101T010000
RDATE:20160313T030000
TZOFFSETFROM:-0500
TZOFFSETTO:-0600
TZNAME:America/Chicago CST
END:STANDARD
BEGIN:STANDARD
DTSTART:20161106T010000
RDATE:20170312T030000
TZOFFSETFROM:-0500
TZOFFSETTO:-0600
TZNAME:America/Chicago CST
END:STANDARD
BEGIN:STANDARD
DTSTART:20171105T010000
RDATE:20180311T030000
TZOFFSETFROM:-0500
TZOFFSETTO:-0600
TZNAME:America/Chicago CST
END:STANDARD
BEGIN:STANDARD
DTSTART:20181104T010000
RDATE:20190310T030000
TZOFFSETFROM:-0500
TZOFFSETTO:-0600
TZNAME:America/Chicago CST
END:STANDARD
BEGIN:STANDARD
DTSTART:20191103T010000
RDATE:20200308T030000
TZOFFSETFROM:-0500
TZOFFSETTO:-0600
TZNAME:America/Chicago CST
END:STANDARD
BEGIN:STANDARD
DTSTART:20201101T010000
RDATE:20210314T030000
TZOFFSETFROM:-0500
TZOFFSETTO:-0600
TZNAME:America/Chicago CST
END:STANDARD
BEGIN:DAYLIGHT
DTSTART:20140727T090000
RDATE:20141102T010000
TZOFFSETFROM:-0600
TZOFFSETTO:-0500
TZNAME:America/Chicago CDT
END:DAYLIGHT
BEGIN:DAYLIGHT
DTSTART:20150308T030000
RDATE:20151101T010000
TZOFFSETFROM:-0600
TZOFFSETTO:-0500
TZNAME:America/Chicago CDT
END:DAYLIGHT
BEGIN:DAYLIGHT
DTSTART:20160313T030000
RDATE:20161106T010000
TZOFFSETFROM:-0600
TZOFFSETTO:-0500
TZNAME:America/Chicago CDT
END:DAYLIGHT
BEGIN:DAYLIGHT
DTSTART:20170312T030000
RDATE:20171105T010000
TZOFFSETFROM:-0600
TZOFFSETTO:-0500
TZNAME:America/Chicago CDT
END:DAYLIGHT
BEGIN:DAYLIGHT
DTSTART:20180311T030000
RDATE:20181104T010000
TZOFFSETFROM:-0600
TZOFFSETTO:-0500
TZNAME:America/Chicago CDT
END:DAYLIGHT
BEGIN:DAYLIGHT
DTSTART:20190310T030000
RDATE:20191103T010000
TZOFFSETFROM:-0600
TZOFFSETTO:-0500
TZNAME:America/Chicago CDT
END:DAYLIGHT
BEGIN:DAYLIGHT
DTSTART:20200308T030000
RDATE:20201101T010000
TZOFFSETFROM:-0600
TZOFFSETTO:-0500
TZNAME:America/Chicago CDT
END:DAYLIGHT
END:VTIMEZONE
BEGIN:VEVENT
UID:1a56e9dcccb1d0f90632ba7171d5304a
CATEGORIES:DEFAULT
CREATED:20150724T091001
SUMMARY:MS811 Law Changes Seminar
LOCATION:Conference Center
DESCRIPTION:
CONTACT:Reanna Mayoral, This email address is being protected from spambots. You need JavaScript enabled to view it.
				document.getElementById('cloak2ce0de7e21c856cd91954793437b1590').innerHTML = '';
				var prefix = '&#109;a' + 'i&#108;' + '&#116;o';
				var path = 'hr' + 'ef' + '=';
				var addy2ce0de7e21c856cd91954793437b1590 = 'r&#101;&#97;nn&#97;' + '&#64;';
				addy2ce0de7e21c856cd91954793437b1590 = addy2ce0de7e21c856cd91954793437b1590 + '&#111;xf&#111;rdms' + '&#46;' + 'n&#101;t';
				var addy_text2ce0de7e21c856cd91954793437b1590 = 'r&#101;&#97;nn&#97;' + '&#64;' + '&#111;xf&#111;rdms' + '&#46;' + 'n&#101;t';document.getElementById('cloak2ce0de7e21c856cd91954793437b1590').innerHTML += '<a ' + path + '\'' + prefix + ':' + addy2ce0de7e21c856cd91954793437b1590 + '\'>'+addy_text2ce0de7e21c856cd91954793437b1590+'';
		
X-EXTRAINFO:More info: http://www.oxfordms.net/news-feed/item/dig-law-seminar (http://w
 ww.oxfordms.net/news-feed/item/dig-law-seminar)
DTSTAMP:20260420T215648
DTSTART;TZID=America/Chicago:20150728T090000
DTEND;TZID=America/Chicago:20150728T100000
SEQUENCE:0
TRANSP:OPAQUE
END:VEVENT
END:VCALENDAR