BEGIN:VCALENDAR
VERSION:2.0
PRODID:-//jEvents 2.0 for Joomla//EN
CALSCALE:GREGORIAN
METHOD:PUBLISH
BEGIN:VTIMEZONE
TZID:America/Chicago
END:VTIMEZONE
BEGIN:VEVENT
UID:07887937a9871302171dd9bc7630865f
CATEGORIES:Meetings
CREATED:20260112T075900
SUMMARY:Park Commission Special Meeting
LOCATION:Park Commission Stone Center
DESCRIPTION:
CONTACT:Seth Gaines, 662-232-2380
X-EXTRAINFO:Agenda: http://www.oxfordms.net/park-commission-agenda (http://www.oxfordms
 .net/park-commission-agenda)
DTSTAMP:20260424T132816
DTSTART;TZID=America/Chicago:20260112T130000
SEQUENCE:0
TRANSP:OPAQUE
END:VEVENT
END:VCALENDAR