BEGIN:VCALENDAR
VERSION:2.0
PRODID:-//jEvents 2.0 for Joomla//EN
CALSCALE:GREGORIAN
METHOD:PUBLISH
BEGIN:VTIMEZONE
TZID:America/Chicago
END:VTIMEZONE
BEGIN:VEVENT
UID:11e2a48f699fab641c241d2d74edfdb7
CATEGORIES:Meetings
CREATED:20221129T075737
SUMMARY:Park Commission Special Meeting
LOCATION:Park Commission Administrative Office
DESCRIPTION:This will be a special call-in meeting<br /><br />1-605-313-5625<br /><br /
 >Pin # 701684<br /><br />
CONTACT:Seth Gaines, 662-232-2380
X-EXTRAINFO:Agenda: http://www.oxfordms.net/park-commission-agenda (http://www.oxfordms
 .net/park-commission-agenda)
DTSTAMP:20260425T011333
DTSTART;TZID=America/Chicago:20221130T083000
SEQUENCE:0
TRANSP:OPAQUE
END:VEVENT
END:VCALENDAR