BEGIN:VCALENDAR
VERSION:2.0
PRODID:-//jEvents 2.0 for Joomla//EN
CALSCALE:GREGORIAN
METHOD:PUBLISH
BEGIN:VTIMEZONE
TZID:America/Chicago
END:VTIMEZONE
BEGIN:VEVENT
UID:d2296100975c496d44d7446f38bd7abd
CATEGORIES:Meetings
CREATED:20221028T201550
SUMMARY:Reserve and Trust Fund Committee Regular Meeting
LOCATION:Courtroom\, City Hall
DESCRIPTION:Instructions for joining the meeting on your phone:<br />1) Dial 1-404-201-
 2656<br />2) Enter the meeting ID: 995 7260 3011<br />3) Enter the Passcode
 : 026857<br />
CONTACT:Ashley Atkinson, City Clerk 662-236-1310
X-EXTRAINFO:Agenda: http://www.oxfordms.net/trust-fund-committee-agenda (http://www.oxf
 ordms.net/trust-fund-committee-agenda)
DTSTAMP:20260424T215142
DTSTART;TZID=America/Chicago:20221101T153000
DTEND;TZID=America/Chicago:20221101T163000
SEQUENCE:0
TRANSP:OPAQUE
END:VEVENT
END:VCALENDAR