BEGIN:VCALENDAR
VERSION:2.0
PRODID:-//jEvents 2.0 for Joomla//EN
CALSCALE:GREGORIAN
METHOD:PUBLISH
BEGIN:VTIMEZONE
TZID:America/Chicago
END:VTIMEZONE
BEGIN:VEVENT
UID:7b5006f60c29ecac189549982f8c689d
CATEGORIES:Meetings
CREATED:20221012T123704
SUMMARY:Board of Aldermen Recess Meeting
LOCATION:: City Hall Courtroom
DESCRIPTION:
CONTACT:Ashley Atkinson, City Clerk, 662-236-1310
X-EXTRAINFO:Agenda: http://www.oxfordms.net/board-of-aldermen-agenda (http://www.oxford
 ms.net/board-of-aldermen-agenda)
DTSTAMP:20260424T201740
DTSTART;TZID=America/Chicago:20221012T150000
DTEND;TZID=America/Chicago:20221012T170000
SEQUENCE:0
TRANSP:OPAQUE
END:VEVENT
END:VCALENDAR