BEGIN:VCALENDAR
VERSION:2.0
PRODID:-//jEvents 2.0 for Joomla//EN
CALSCALE:GREGORIAN
METHOD:PUBLISH
BEGIN:VTIMEZONE
TZID:America/Chicago
BEGIN:STANDARD
DTSTART:20171105T010000
RDATE:20180311T030000
TZOFFSETFROM:-0500
TZOFFSETTO:-0600
TZNAME:America/Chicago CST
END:STANDARD
BEGIN:STANDARD
DTSTART:20181104T010000
RDATE:20190310T030000
TZOFFSETFROM:-0500
TZOFFSETTO:-0600
TZNAME:America/Chicago CST
END:STANDARD
BEGIN:STANDARD
DTSTART:20191103T010000
RDATE:20200308T030000
TZOFFSETFROM:-0500
TZOFFSETTO:-0600
TZNAME:America/Chicago CST
END:STANDARD
BEGIN:STANDARD
DTSTART:20201101T010000
RDATE:20210314T030000
TZOFFSETFROM:-0500
TZOFFSETTO:-0600
TZNAME:America/Chicago CST
END:STANDARD
BEGIN:DAYLIGHT
DTSTART:20171101T100000
RDATE:20171105T010000
TZOFFSETFROM:-0600
TZOFFSETTO:-0500
TZNAME:America/Chicago CDT
END:DAYLIGHT
BEGIN:DAYLIGHT
DTSTART:20180311T030000
RDATE:20181104T010000
TZOFFSETFROM:-0600
TZOFFSETTO:-0500
TZNAME:America/Chicago CDT
END:DAYLIGHT
BEGIN:DAYLIGHT
DTSTART:20190310T030000
RDATE:20191103T010000
TZOFFSETFROM:-0600
TZOFFSETTO:-0500
TZNAME:America/Chicago CDT
END:DAYLIGHT
BEGIN:DAYLIGHT
DTSTART:20200308T030000
RDATE:20201101T010000
TZOFFSETFROM:-0600
TZOFFSETTO:-0500
TZNAME:America/Chicago CDT
END:DAYLIGHT
END:VTIMEZONE
BEGIN:VEVENT
UID:484e4cfa57e2db2097e5d3cc94d92e6c
CATEGORIES:Meetings
CREATED:20181026T132843
SUMMARY:Parking Commission
LOCATION:Courtroom\, City Hall
DESCRIPTION:The Downtown Parking Advisory Commission (DPAC) is hosting a public forum t
 o discuss parking permits, pricing, location, and implementation at 10:00 a
 m, Friday November 2nd in the courtroom at City Hall. Parking consultants K
 imley-Horn will be on hand to gather information and public input to make f
 uture recommendations on the parking system. The public is encouraged to at
 tend. <br /><br />City of Oxford Downtown Parking Management Strategy Publi
 c Meeting Agenda<br />November 2, 2018 – 10:00 AM<br />· Downtown Parking C
 ommission and City Parking Program Introduction<br />· Project and Project 
 Team Introductions<br />· Project Goal Discussion<br />· Monthly, Quarterly
 , Annual Parking Pass Program<br />· Parking Technology<br />· Parking Syst
 em Strategies<br />· General Questions and Answers
CONTACT:Matt Davis, This email address is being protected from spambots. You need JavaScript enabled to view it.
				document.getElementById('cloakedbfabe36c81003e1ebfef4ecc2b20c4').innerHTML = '';
				var prefix = '&#109;a' + 'i&#108;' + '&#116;o';
				var path = 'hr' + 'ef' + '=';
				var addyedbfabe36c81003e1ebfef4ecc2b20c4 = 'md&#97;v&#105;s' + '&#64;';
				addyedbfabe36c81003e1ebfef4ecc2b20c4 = addyedbfabe36c81003e1ebfef4ecc2b20c4 + '&#111;xf&#111;rdms' + '&#46;' + 'n&#101;t';
				var addy_textedbfabe36c81003e1ebfef4ecc2b20c4 = 'md&#97;v&#105;s' + '&#64;' + '&#111;xf&#111;rdms' + '&#46;' + 'n&#101;t';document.getElementById('cloakedbfabe36c81003e1ebfef4ecc2b20c4').innerHTML += '<a ' + path + '\'' + prefix + ':' + addyedbfabe36c81003e1ebfef4ecc2b20c4 + '\'>'+addy_textedbfabe36c81003e1ebfef4ecc2b20c4+'';
		
X-EXTRAINFO:Agenda: http://www.oxfordms.net/parking-commission-agenda (http://www.oxfor
 dms.net/parking-commission-agenda)
DTSTAMP:20260424T105733
DTSTART;TZID=America/Chicago:20181102T100000
SEQUENCE:0
TRANSP:OPAQUE
END:VEVENT
END:VCALENDAR