BEGIN:VCALENDAR
VERSION:2.0
PRODID:-//jEvents 2.0 for Joomla//EN
CALSCALE:GREGORIAN
METHOD:PUBLISH
BEGIN:VTIMEZONE
TZID:America/Chicago
BEGIN:STANDARD
DTSTART:20140218T000000
RDATE:20140309T030000
TZOFFSETFROM:-0500
TZOFFSETTO:-0600
TZNAME:America/Chicago CST
END:STANDARD
BEGIN:STANDARD
DTSTART:20141102T010000
RDATE:20150308T030000
TZOFFSETFROM:-0500
TZOFFSETTO:-0600
TZNAME:America/Chicago CST
END:STANDARD
BEGIN:STANDARD
DTSTART:20151101T010000
RDATE:20160313T030000
TZOFFSETFROM:-0500
TZOFFSETTO:-0600
TZNAME:America/Chicago CST
END:STANDARD
BEGIN:STANDARD
DTSTART:20161106T010000
RDATE:20170312T030000
TZOFFSETFROM:-0500
TZOFFSETTO:-0600
TZNAME:America/Chicago CST
END:STANDARD
BEGIN:STANDARD
DTSTART:20171105T010000
RDATE:20180311T030000
TZOFFSETFROM:-0500
TZOFFSETTO:-0600
TZNAME:America/Chicago CST
END:STANDARD
BEGIN:STANDARD
DTSTART:20181104T010000
RDATE:20190310T030000
TZOFFSETFROM:-0500
TZOFFSETTO:-0600
TZNAME:America/Chicago CST
END:STANDARD
BEGIN:STANDARD
DTSTART:20191103T010000
RDATE:20200308T030000
TZOFFSETFROM:-0500
TZOFFSETTO:-0600
TZNAME:America/Chicago CST
END:STANDARD
BEGIN:STANDARD
DTSTART:20201101T010000
RDATE:20210314T030000
TZOFFSETFROM:-0500
TZOFFSETTO:-0600
TZNAME:America/Chicago CST
END:STANDARD
BEGIN:DAYLIGHT
DTSTART:20140309T030000
RDATE:20141102T010000
TZOFFSETFROM:-0600
TZOFFSETTO:-0500
TZNAME:America/Chicago CDT
END:DAYLIGHT
BEGIN:DAYLIGHT
DTSTART:20150308T030000
RDATE:20151101T010000
TZOFFSETFROM:-0600
TZOFFSETTO:-0500
TZNAME:America/Chicago CDT
END:DAYLIGHT
BEGIN:DAYLIGHT
DTSTART:20160313T030000
RDATE:20161106T010000
TZOFFSETFROM:-0600
TZOFFSETTO:-0500
TZNAME:America/Chicago CDT
END:DAYLIGHT
BEGIN:DAYLIGHT
DTSTART:20170312T030000
RDATE:20171105T010000
TZOFFSETFROM:-0600
TZOFFSETTO:-0500
TZNAME:America/Chicago CDT
END:DAYLIGHT
BEGIN:DAYLIGHT
DTSTART:20180311T030000
RDATE:20181104T010000
TZOFFSETFROM:-0600
TZOFFSETTO:-0500
TZNAME:America/Chicago CDT
END:DAYLIGHT
BEGIN:DAYLIGHT
DTSTART:20190310T030000
RDATE:20191103T010000
TZOFFSETFROM:-0600
TZOFFSETTO:-0500
TZNAME:America/Chicago CDT
END:DAYLIGHT
BEGIN:DAYLIGHT
DTSTART:20200308T030000
RDATE:20201101T010000
TZOFFSETFROM:-0600
TZOFFSETTO:-0500
TZNAME:America/Chicago CDT
END:DAYLIGHT
END:VTIMEZONE
BEGIN:VEVENT
UID:69d46378e6bf54431f5f5be65d0f042b
CATEGORIES:DEFAULT
CREATED:20150218T205949
SUMMARY:Test Event
LOCATION:The Square
DESCRIPTION:Test Event. It'll be grand
CONTACT:This email address is being protected from spambots. You need JavaScript enabled to view it.
				document.getElementById('cloak284b6c35a548e32b134b63f93863823f').innerHTML = '';
				var prefix = '&#109;a' + 'i&#108;' + '&#116;o';
				var path = 'hr' + 'ef' + '=';
				var addy284b6c35a548e32b134b63f93863823f = 'j&#97;m&#101;s' + '&#64;';
				addy284b6c35a548e32b134b63f93863823f = addy284b6c35a548e32b134b63f93863823f + 'c&#111;nf&#105;td&#101;s&#105;gn' + '&#46;' + 'c&#111;m';
				var addy_text284b6c35a548e32b134b63f93863823f = 'j&#97;m&#101;s' + '&#64;' + 'c&#111;nf&#105;td&#101;s&#105;gn' + '&#46;' + 'c&#111;m';document.getElementById('cloak284b6c35a548e32b134b63f93863823f').innerHTML += '<a ' + path + '\'' + prefix + ':' + addy284b6c35a548e32b134b63f93863823f + '\'>'+addy_text284b6c35a548e32b134b63f93863823f+'';
		
DTSTAMP:20260420T201245
DTSTART;TZID=America/Chicago;VALUE=DATE:20150219
DTEND;TZID=America/Chicago;VALUE=DATE:20150220
SEQUENCE:0
TRANSP:OPAQUE
END:VEVENT
END:VCALENDAR